Felt | Verdi |
AlreadyApplied | True |
ApproximateFocusDistance | 254 |
AutoLateralCA | 0 |
BitsPerSample | 8 |
Blacks2012 | -15 |
BlueHue | 0 |
BlueSaturation | 0 |
CameraProfile | Adobe Standard |
Clarity2012 | +5 |
ColorComponents | 1 |
ColorNoiseReduction | 25 |
ColorNoiseReductionDetail | 50 |
ColorTemperature | 5200 |
Contrast2012 | +25 |
ConvertToGrayscale | True |
CreateDate | 2013:12:02 09:30:34.00 |
Creator | Odd Chr. Knutsen |
CreatorTool | Adobe Photoshop Lightroom 4.4 (Macintosh) |
CropAngle | -0.027672 |
CropBottom | 0.861811 |
CropConstrainToWarp | 0 |
CropHeight | 870 |
CropLeft | 0 |
CropRight | 0.834626 |
CropTop | 0.012207 |
CropUnit | pixels |
CropWidth | 1280 |
DateCreated | 2013:12:02 09:30:34.00 |
Exposure2012 | +0.80 |
Firmware | 1.2.1 |
FlashCompensation | 0 |
Format | image/tiff |
GrainAmount | 0 |
GrayMixerAqua | -20 |
GrayMixerBlue | +8 |
GrayMixerGreen | -27 |
GrayMixerMagenta | +9 |
GrayMixerOrange | -16 |
GrayMixerPurple | +18 |
GrayMixerRed | -4 |
GrayMixerYellow | -21 |
GreenHue | 0 |
GreenSaturation | 0 |
HasCrop | True |
HasSettings | True |
Highlights2012 | +54 |
ImageHeight | 870 |
ImageNumber | 0 |
ImageSize | 1280x870 |
ImageWidth | 1280 |
Lens | EF200-400mm f/4L IS USM EXT |
LensID | 499 |
LensInfo | 280-560mm f/? |
LensManualDistortionAmount | 0 |
LensProfileEnable | 0 |
LensProfileSetup | LensDefaults |
LensSerialNumber | 0300000230 |
LuminanceSmoothing | 0 |
Megapixels | 1.1 |
ModifyDate | 2013:12:02 10:50:01+01:00 |
ParametricDarks | -5 |
ParametricHighlights | 0 |
ParametricHighlightSplit | 75 |
ParametricLights | +42 |
ParametricMidtoneSplit | 50 |
ParametricShadows | -4 |
ParametricShadowSplit | 25 |
PerspectiveHorizontal | 0 |
PerspectiveRotate | 0.0 |
PerspectiveScale | 100 |
PerspectiveVertical | 0 |
PostCropVignetteAmount | 0 |
ProcessVersion | 6.7 |
ProfileDescription | Adobe RGB (1998) |
RedHue | 0 |
RedSaturation | 0 |
SerialNumber | 023021000669 |
Shadows2012 | +29 |
ShadowTint | 0 |
SharpenDetail | 25 |
SharpenEdgeMasking | 10 |
SharpenRadius | +1.0 |
Sharpness | 75 |
SplitToningBalance | 0 |
SplitToningHighlightHue | 0 |
SplitToningHighlightSaturation | 0 |
SplitToningShadowHue | 0 |
SplitToningShadowSaturation | 0 |
Tint | +5 |
ToneCurveName2012 | Linear |
ToneCurvePV2012 | 0, 0, 255, 255 |
ToneCurvePV2012Blue | 0, 0, 255, 255 |
ToneCurvePV2012Green | 0, 0, 255, 255 |
ToneCurvePV2012Red | 0, 0, 255, 255 |
Version | 7.4 |
VignetteAmount | 0 |
WhiteBalance | As Shot |
Whites2012 | 0 |