Felt | Verdi |
AlreadyApplied | True |
Aperture | 5.6 |
ApertureValue | 5.6 |
AutoLateralCA | 0 |
BitsPerSample | 8 |
Blacks2012 | 0 |
BlueHue | 0 |
BlueSaturation | 0 |
CameraProfile | Adobe Standard |
CircleOfConfusion | 0.031 mm |
Clarity2012 | +22 |
ColorComponents | 3 |
ColorNoiseReduction | 25 |
ColorNoiseReductionDetail | 50 |
ColorTemperature | 6500 |
Contrast2012 | 0 |
ConvertToGrayscale | False |
CreateDate (1) | 2012:05:12 12:59:27.05 |
CreateDate | 2012:05:12 12:59:27 |
CreatorTool | Adobe Photoshop Lightroom 4.1 (Macintosh) |
CropAngle | 0 |
CropBottom | 0.856899 |
CropConstrainToWarp | 0 |
CropHeight | 877 |
CropLeft | 0.052243 |
CropRight | 1 |
CropTop | 0.207836 |
CropUnit | pixels |
CropWidth | 1920 |
CustomRendered | Normal |
DateCreated (1) | 2012:05:12 |
DateCreated | 2012:05:12 12:59:27.05 |
DateTimeOriginal | 2012:05:12 12:59:27 |
DefringeGreenAmount | 0 |
DefringeGreenHueHi | 60 |
DefringeGreenHueLo | 40 |
DefringePurpleAmount | 0 |
DefringePurpleHueHi | 70 |
DefringePurpleHueLo | 30 |
Exposure2012 | 0.00 |
ExposureCompensation | 0 |
ExposureMode | Auto |
ExposureProgram | Aperture-priority AE |
ExposureTime | 1/640 |
Firmware | 2.0.9 |
Flash | Off, Did not fire |
FlashCompensation | 0 |
FNumber | 5.6 |
FocalLength | 350.0 mm |
FocalLength35efl | 350.0 mm (35 mm equivalent: 341.6 mm) |
Format | image/jpeg |
FOV | 6.0 deg |
GrainAmount | 0 |
GreenHue | 0 |
GreenSaturation | 0 |
HasCrop | True |
HasSettings | True |
Highlights2012 | 0 |
HueAdjustmentAqua | 0 |
HueAdjustmentBlue | 0 |
HueAdjustmentGreen | 0 |
HueAdjustmentMagenta | 0 |
HueAdjustmentOrange | 0 |
HueAdjustmentPurple | 0 |
HueAdjustmentRed | 0 |
HueAdjustmentYellow | 0 |
HyperfocalDistance | 710.53 m |
ImageHeight | 877 |
ImageNumber | 0 |
ImageSize | 1920x877 |
ImageWidth | 1920 |
ISO | 100 |
Lens | EF35-350mm f/3.5-5.6L USM |
LensID (1) | 153 |
LensID | Canon EF 35-350mm f/3.5-5.6L USM |
LensInfo | 35-350mm f/? |
LensManualDistortionAmount | 0 |
LensModel | EF35-350mm f/3.5-5.6L USM |
LensProfileEnable | 0 |
LensProfileSetup | LensDefaults |
LightValue | 14.3 |
LuminanceAdjustmentAqua | 0 |
LuminanceAdjustmentBlue | 0 |
LuminanceAdjustmentGreen | 0 |
LuminanceAdjustmentMagenta | 0 |
LuminanceAdjustmentOrange | 0 |
LuminanceAdjustmentPurple | 0 |
LuminanceAdjustmentRed | 0 |
LuminanceAdjustmentYellow | 0 |
LuminanceNoiseReductionContrast | 0 |
LuminanceNoiseReductionDetail | 50 |
LuminanceSmoothing | 40 |
Make | Canon |
MaxApertureValue | 5.7 |
Megapixels | 1.7 |
MeteringMode | Multi-segment |
Model | Canon EOS 5D Mark II |
ModifyDate (1) | 2012:05:12 22:26:43+02:00 |
ModifyDate | 2012:05:12 22:26:43 |
ParametricDarks | 0 |
ParametricHighlights | 0 |
ParametricHighlightSplit | 75 |
ParametricLights | 0 |
ParametricMidtoneSplit | 50 |
ParametricShadows | 0 |
ParametricShadowSplit | 25 |
PerspectiveHorizontal | 0 |
PerspectiveRotate | 0.0 |
PerspectiveScale | 100 |
PerspectiveVertical | 0 |
PostCropVignetteAmount | 0 |
ProcessVersion | 6.7 |
ProfileDescription | Adobe RGB (1998) |
Rating | 5 |
RedHue | 0 |
RedSaturation | 0 |
Saturation | +58 |
SaturationAdjustmentAqua | 0 |
SaturationAdjustmentBlue | 0 |
SaturationAdjustmentGreen | 0 |
SaturationAdjustmentMagenta | 0 |
SaturationAdjustmentOrange | 0 |
SaturationAdjustmentPurple | 0 |
SaturationAdjustmentRed | 0 |
SaturationAdjustmentYellow | 0 |
ScaleFactor35efl | 1.0 |
SceneCaptureType | Standard |
SerialNumber | 730306330 |
Shadows2012 | +98 |
ShadowTint | 0 |
SharpenDetail | 25 |
SharpenEdgeMasking | 32 |
SharpenRadius | +1.8 |
Sharpness | 130 |
ShutterSpeed | 1/640 |
ShutterSpeedValue | 1/640 |
Software | Adobe Photoshop Lightroom 4.1 (Macintosh) |
SplitToningBalance | 0 |
SplitToningHighlightHue | 0 |
SplitToningHighlightSaturation | 0 |
SplitToningShadowHue | 0 |
SplitToningShadowSaturation | 0 |
Tint | +10 |
ToneCurveName2012 | Linear |
ToneCurvePV2012 | 0, 0, 255, 255 |
ToneCurvePV2012Blue | 0, 0, 255, 255 |
ToneCurvePV2012Green | 0, 0, 255, 255 |
ToneCurvePV2012Red | 0, 0, 255, 255 |
Version | 7.1 |
Vibrance | +36 |
VignetteAmount | 0 |
WhiteBalance (1) | Cloudy |
WhiteBalance | Auto |
Whites2012 | 0 |