Felt | Verdi |
AlreadyApplied | True |
Aperture | 1.4 |
ApertureValue | 1.4 |
ApproximateFocusDistance | 2.37 |
BitsPerSample | 8 |
BlueHue | 0 |
BlueSaturation | 0 |
Brightness | +50 |
CameraProfile | Adobe Standard |
CFAPattern | [Red,Green][Green,Blue] |
ChromaticAberrationB | 0 |
ChromaticAberrationR | 0 |
CircleOfConfusion | 0.030 mm |
Clarity | +23 |
ColorComponents | 3 |
ColorMode | RGB |
ColorNoiseReduction | 25 |
ColorSpace | sRGB |
ColorTemperature | 5800 |
Contrast (1) | +25 |
Contrast | Normal |
ConvertToGrayscale | False |
CreateDate (1) | 2012:01:28 16:32:37.70+01:00 |
CreateDate | 2012:01:28 16:32:37 |
CreatorTool | Adobe Photoshop CS5 Macintosh |
CropAngle | 0 |
CropBottom | 1 |
CropConstrainToWarp | 1 |
CropLeft | 0.146372 |
CropRight | 1 |
CropTop | 0.068246 |
CustomRendered | Normal |
DateCreated | 2012:01:28 |
DateTimeDigitized | 2012:01:28 16:32:37+01:00 |
DateTimeOriginal (1) | 2012:01:28 16:32:37+01:00 |
DateTimeOriginal | 2012:01:28 16:32:37 |
Defringe | 0 |
DigitalZoomRatio | 1 |
DOF | 0.06 m (2.34 - 2.40 m) |
ExifImageHeight | 930 |
ExifImageWidth | 1280 |
Exposure | -0.35 |
ExposureCompensation | 0 |
ExposureMode | Manual |
ExposureProgram | Manual |
ExposureTime | 1/640 |
FillLight | 0 |
Flash | On, Return detected |
FlashFired | True |
FlashFunction | False |
FlashMode | On |
FlashRedEyeMode | False |
FlashReturn | Return detected |
FNumber | 1.4 |
FocalLength | 85.0 mm |
FocalLength35efl | 85.0 mm (35 mm equivalent: 85.0 mm) |
FocalLengthIn35mmFormat | 85 mm |
Format | image/jpeg |
FOV | 23.9 deg |
GainControl | None |
GrainAmount | 0 |
GreenHue | 0 |
GreenSaturation | 0 |
HasCrop | True |
HasSettings | True |
HighlightRecovery | 5 |
HueAdjustmentAqua | 0 |
HueAdjustmentBlue | 0 |
HueAdjustmentGreen | 0 |
HueAdjustmentMagenta | 0 |
HueAdjustmentOrange | 0 |
HueAdjustmentPurple | 0 |
HueAdjustmentRed | 0 |
HueAdjustmentYellow | 0 |
HyperfocalDistance | 171.76 m |
ICCProfileName | sRGB IEC61966-2.1 |
ImageHeight | 930 |
ImageNumber | 15196 |
ImageSize | 1280x930 |
ImageWidth | 1280 |
ISO | 200 |
Label | To Do |
Lens | 85.0 mm f/1.4 |
LensID (1) | 174 |
LensID | AF-S Nikkor 85mm f/1.4G |
LensInfo | 85mm f/1.4 |
LensManualDistortionAmount | 0 |
LensModel | 85.0 mm f/1.4 |
LensProfileEnable | 0 |
LensProfileSetup | LensDefaults |
LightSource | Unknown |
LightValue | 9.3 |
LuminanceAdjustmentAqua | 0 |
LuminanceAdjustmentBlue | 0 |
LuminanceAdjustmentGreen | 0 |
LuminanceAdjustmentMagenta | 0 |
LuminanceAdjustmentOrange | 0 |
LuminanceAdjustmentPurple | 0 |
LuminanceAdjustmentRed | 0 |
LuminanceAdjustmentYellow | 0 |
LuminanceSmoothing | 0 |
Make | NIKON CORPORATION |
MaxApertureValue | 1.4 |
Megapixels | 1.2 |
MeteringMode | Center-weighted average |
Model | NIKON D3S |
ModifyDate (1) | 2012:01:30 14:42:13+01:00 |
ModifyDate | 2012:01:30 14:42:13 |
Orientation | Horizontal (normal) |
ParametricDarks | -4 |
ParametricHighlights | 0 |
ParametricHighlightSplit | 75 |
ParametricLights | +5 |
ParametricMidtoneSplit | 50 |
ParametricShadows | 0 |
ParametricShadowSplit | 25 |
PerspectiveHorizontal | 0 |
PerspectiveRotate | 0.0 |
PerspectiveScale | 100 |
PerspectiveVertical | 0 |
PostCropVignetteAmount | -25 |
PostCropVignetteFeather | 50 |
PostCropVignetteHighlightContrast | 0 |
PostCropVignetteMidpoint | 43 |
PostCropVignetteRoundness | 0 |
PostCropVignetteStyle | 1 |
ProcessVersion | 5.0 |
ProfileDescription | sRGB IEC61966-2.1 |
Rating | 0 |
RawFileName | _DSC5055.NEF |
RedHue | 0 |
RedSaturation | 0 |
Saturation (1) | -13 |
Saturation | Normal |
SaturationAdjustmentAqua | 0 |
SaturationAdjustmentBlue | 0 |
SaturationAdjustmentGreen | 0 |
SaturationAdjustmentMagenta | 0 |
SaturationAdjustmentOrange | 0 |
SaturationAdjustmentPurple | 0 |
SaturationAdjustmentRed | 0 |
SaturationAdjustmentYellow | 0 |
ScaleFactor35efl | 1.0 |
SceneCaptureType | Standard |
SceneType | Directly photographed |
SensingMethod | One-chip color area |
SerialNumber | 2028321 |
Shadows | 4 |
ShadowTint | 0 |
SharpenDetail | 25 |
SharpenEdgeMasking | 0 |
SharpenRadius | +1.0 |
Sharpness (1) | 25 |
Sharpness | Normal |
ShutterSpeed | 1/640 |
ShutterSpeedValue | 1/640 |
Software | Adobe Photoshop CS4 Macintosh |
SplitToningBalance | 0 |
SplitToningHighlightHue | 0 |
SplitToningHighlightSaturation | 0 |
SplitToningShadowHue | 0 |
SplitToningShadowSaturation | 0 |
SubjectDistance | 2.37 m |
SubjectDistanceRange | Unknown |
Tint | +1 |
ToneCurve | 0, 0, 32, 22, 64, 56, 128, 128, 192, 196, 255, 255 |
ToneCurveName | Medium Contrast |
URL_List | |
Version | 6.5 |
Vibrance | +15 |
VignetteAmount | 0 |
WhiteBalance (1) | Custom |
WhiteBalance | Auto |