Felt | Verdi |
AlreadyApplied | True |
Aperture | 5.0 |
ApertureValue | 5.0 |
ApproximateFocusDistance | 14.1 |
BitsPerSample | 8 |
BlueHue | 0 |
BlueSaturation | 0 |
Brightness | +50 |
CameraProfile | ACR 4.6 |
CFAPattern | [Green,Blue][Red,Green] |
ChromaticAberrationB | 0 |
ChromaticAberrationR | 0 |
CircleOfConfusion | 0.020 mm |
Clarity | +80 |
ColorComponents | 3 |
ColorNoiseReduction | 25 |
ColorNoiseReductionDetail | 50 |
ColorTemperature | 3429 |
Contrast (1) | +25 |
Contrast | Normal |
ConvertToGrayscale | False |
CreateDate (1) | 2012:01:27 10:04:37.00 |
CreateDate | 2012:01:27 10:04:37 |
CreatorTool | Adobe Photoshop Lightroom 3.4.1 |
CropAngle | 0.696041 |
CropBottom | 1 |
CropConstrainToWarp | 0 |
CropHeight | 2801 |
CropLeft | 0.011569 |
CropRight | 0.907714 |
CropTop | 0 |
CropUnit | pixels |
CropWidth | 3877 |
CustomRendered | Normal |
DateCreated (1) | 2012:01:27 |
DateCreated | 2012:01:27 10:04:37.00 |
DateTimeOriginal | 2012:01:27 10:04:37 |
Defringe | 0 |
DigitalZoomRatio | 1 |
DOF | 5.55 m (11.85 - 17.40 m) |
Exposure | 0.00 |
ExposureCompensation | 0 |
ExposureMode | Auto |
ExposureProgram | Aperture-priority AE |
ExposureTime | 1/25 |
FillLight | 40 |
Flash | No Flash |
FNumber | 5.0 |
FocalLength | 86.0 mm |
FocalLength35efl | 86.0 mm (35 mm equivalent: 129.0 mm) |
FocalLengthIn35mmFormat | 129 mm |
FOV | 15.9 deg |
GainControl | High gain up |
GrainAmount | 0 |
GreenHue | 0 |
GreenSaturation | 0 |
HasCrop | True |
HasSettings | True |
HighlightRecovery | 0 |
HueAdjustmentAqua | 0 |
HueAdjustmentBlue | 0 |
HueAdjustmentGreen | 0 |
HueAdjustmentMagenta | 0 |
HueAdjustmentOrange | 0 |
HueAdjustmentPurple | 0 |
HueAdjustmentRed | 0 |
HueAdjustmentYellow | 0 |
HyperfocalDistance | 73.85 m |
ImageHeight | 3877 |
ImageNumber | 30448 |
ImageSize | 2801x3877 |
ImageWidth | 2801 |
ISO | 1600 |
Lens | 56.0-200.0 mm f/4.0-5.6 |
LensID (1) | 38 |
LensID | Sigma 28-300mm F3.5-6.3 Macro + 2x or Sigma 28-105mm F2.8-4 Aspherical + 2x or Sigma 28-300mm F3.8-5.6 Aspherical + 2x or Sigma 28-70mm F2.8-4 DG + 2x or Sigma 28mm F1.8 EX DG Aspherical Macro + 2x or Sigma 28-70mm F2.8 EX DG + 2x or Sigma 28-80mm F3.5-5.6 Mini Zoom Macro II Aspherical + 2x or AF Zoom-Nikkor 28-70mm f/3.5-4.5D + 2x or Sigma 28-105mm F3.8-5.6 UC-III Aspherical IF + 2x or Sigma 28-90mm F3.5-5.6 Macro + 2x or Sigma 28-70mm F2.8 EX + 2x or Sigma 28-200mm F3.5-5.6 Compact Aspherical Hyperzoom Macro + 2x or Sigma 28-300mm F3.5-6.3 DG Macro + 2x |
LensInfo | 56-200mm f/4-5.6 |
LensManualDistortionAmount | 0 |
LensModel | 56.0-200.0 mm f/4.0-5.6 |
LensProfileEnable | 0 |
LensProfileSetup | LensDefaults |
LightSource | Unknown |
LightValue | 5.3 |
LuminanceAdjustmentAqua | 0 |
LuminanceAdjustmentBlue | 0 |
LuminanceAdjustmentGreen | 0 |
LuminanceAdjustmentMagenta | 0 |
LuminanceAdjustmentOrange | -46 |
LuminanceAdjustmentPurple | 0 |
LuminanceAdjustmentRed | -23 |
LuminanceAdjustmentYellow | 0 |
LuminanceSmoothing | 0 |
Make | NIKON CORPORATION |
MaxApertureValue | 4.3 |
Megapixels | 10.9 |
MeteringMode | Multi-segment |
Model | NIKON D90 |
ModifyDate (1) | 2012:01:27 17:13:46+01:00 |
ModifyDate | 2012:01:27 17:13:46 |
ParametricDarks | 0 |
ParametricHighlights | +49 |
ParametricHighlightSplit | 75 |
ParametricLights | 0 |
ParametricMidtoneSplit | 50 |
ParametricShadows | -34 |
ParametricShadowSplit | 25 |
PerspectiveHorizontal | 0 |
PerspectiveRotate | 0.0 |
PerspectiveScale | 100 |
PerspectiveVertical | 0 |
PostCropVignetteAmount | 0 |
ProcessVersion | 5.7 |
ProfileDescription | ProPhoto RGB |
RatingPercent | 0 |
RedHue | 0 |
RedSaturation | 0 |
Saturation (1) | 0 |
Saturation | Normal |
SaturationAdjustmentAqua | 0 |
SaturationAdjustmentBlue | 0 |
SaturationAdjustmentGreen | 0 |
SaturationAdjustmentMagenta | 0 |
SaturationAdjustmentOrange | -41 |
SaturationAdjustmentPurple | 0 |
SaturationAdjustmentRed | -26 |
SaturationAdjustmentYellow | 0 |
ScaleFactor35efl | 1.5 |
SceneCaptureType | Standard |
SceneType | Directly photographed |
SensingMethod | One-chip color area |
SerialNumber | 6282427 |
Shadows | 5 |
ShadowTint | 0 |
SharpenDetail | 25 |
SharpenEdgeMasking | 0 |
SharpenRadius | +1.5 |
Sharpness (1) | 55 |
Sharpness | Normal |
ShutterSpeed | 1/25 |
ShutterSpeedValue | 1/25 |
Software | Adobe Photoshop Lightroom 3.4.1 |
SplitToningBalance | 0 |
SplitToningHighlightHue | 49 |
SplitToningHighlightSaturation | 100 |
SplitToningShadowHue | 45 |
SplitToningShadowSaturation | 0 |
SubjectDistance | 14.1 m |
SubjectDistanceRange | Unknown |
Tint | -14 |
ToneCurve | 0, 0, 32, 16, 64, 50, 128, 128, 192, 202, 255, 255 |
ToneCurveName | Strong Contrast |
UserComment | FREDDY WIKE TLF +47 91606594 |
Version | 6.4.1 |
Vibrance | 0 |
VignetteAmount | -100 |
VignetteMidpoint | 51 |
WhiteBalance (1) | Custom |
WhiteBalance | Auto |