Felt | Verdi |
AlreadyApplied | True |
Aperture | 18.0 |
ApertureValue | 18.0 |
BitsPerSample | 8 |
BlueHue | 0 |
BlueSaturation | 0 |
Brightness | +48 |
BrightnessValue | 0.75 |
CameraProfile | Adobe Standard |
Caption-Abstract | SONY DSC |
ChromaticAberrationB | 0 |
ChromaticAberrationR | 0 |
CircleOfConfusion | 0.020 mm |
Clarity | 0 |
ColorComponents | 3 |
ColorNoiseReduction | 33 |
ColorNoiseReductionDetail | 50 |
ColorTemperature | 4400 |
Contrast (1) | +9 |
Contrast | Normal |
ConvertToGrayscale | False |
CreateDate | 2011:11:15 16:05:37 |
CreatorTool | Adobe Photoshop Lightroom 3.5 (Windows) |
CropAngle | 0.903125 |
CropBottom | 0.920311 |
CropConstrainToWarp | 0 |
CropHeight | 2179 |
CropLeft | 0.01339 |
CropRight | 0.985335 |
CropTop | 0.183996 |
CropUnit | pixels |
CropWidth | 4499 |
CustomRendered | Normal |
DateCreated (1) | 2011:11:15 |
DateCreated | 2011:11:15 16:05:37 |
DateTimeOriginal | 2011:11:15 16:05:37 |
Defringe | 0 |
Description | SONY DSC |
Exposure | -1.06 |
ExposureCompensation | 0 |
ExposureMode | Manual |
ExposureProgram | Manual |
ExposureTime | 2.5 |
FillLight | 9 |
Flash | Off, Did not fire |
FNumber | 18.0 |
FocalLength | 10.0 mm |
FocalLength35efl | 10.0 mm (35 mm equivalent: 15.0 mm) |
FocalLengthIn35mmFormat | 15 mm |
FOV | 100.4 deg |
GradientBasedCorrActive | true |
GradientBasedCorrAmount | 1.000000 |
GradientBasedCorrBrightness (1) | 0.097560 |
GradientBasedCorrBrightness (2) | 0.146340 |
GradientBasedCorrBrightness | 0.000000 |
GradientBasedCorrClarity (2) | 0.365850 |
GradientBasedCorrClarity | 0.317070 |
GradientBasedCorrContrast (1) | 0.463410 |
GradientBasedCorrContrast (2) | 0.341460 |
GradientBasedCorrContrast | -0.804880 |
GradientBasedCorrExposure (1) | 0.585250 |
GradientBasedCorrExposure (2) | -0.244000 |
GradientBasedCorrExposure | -0.122000 |
GradientBasedCorrHue | 64.000000 |
GradientBasedCorrMaskFullX (1) | 0.475234 |
GradientBasedCorrMaskFullX (2) | 0.458806 |
GradientBasedCorrMaskFullX | 0.488731 |
GradientBasedCorrMaskFullY (1) | 0.928953 |
GradientBasedCorrMaskFullY (2) | 0.013243 |
GradientBasedCorrMaskFullY | 0.195847 |
GradientBasedCorrMaskValue | 1.000000 |
GradientBasedCorrMaskWhat | Mask/Gradient |
GradientBasedCorrMaskZeroX (1) | 0.476105 |
GradientBasedCorrMaskZeroX (2) | 0.440057 |
GradientBasedCorrMaskZeroX | 0.491293 |
GradientBasedCorrMaskZeroY (1) | 0.036453 |
GradientBasedCorrMaskZeroY (2) | 0.906527 |
GradientBasedCorrMaskZeroY | 0.698737 |
GradientBasedCorrSaturation (1) | 0.170730 |
GradientBasedCorrSaturation (3) | 0.317070 |
GradientBasedCorrSaturation (5) | 0.024390 |
GradientBasedCorrSaturation | 0.000000 |
GradientBasedCorrSharpness (1) | 0.097560 |
GradientBasedCorrSharpness (2) | 0.268290 |
GradientBasedCorrSharpness | 0.195120 |
GradientBasedCorrWhat | Correction |
GrainAmount | 0 |
GreenHue | 0 |
GreenSaturation | 0 |
HasCrop | True |
HasSettings | True |
HighlightRecovery | 56 |
HueAdjustmentAqua | 0 |
HueAdjustmentBlue | 0 |
HueAdjustmentGreen | 0 |
HueAdjustmentMagenta | 0 |
HueAdjustmentOrange | 0 |
HueAdjustmentPurple | 0 |
HueAdjustmentRed | 0 |
HueAdjustmentYellow | 0 |
HyperfocalDistance | 0.28 m |
ImageDescription | SONY DSC |
ImageHeight | 2179 |
ImageSize | 4499x2179 |
ImageWidth | 4499 |
ISO | 200 |
Lens | 28-80mm F3.5-5.6 |
LensID (1) | 30 |
LensID | Sigma AF 10-20mm F4-5.6 EX DC |
LensInfo | 28-80mm f/3.5-5.6 |
LensManualDistortionAmount | 0 |
LensModel | 28-80mm F3.5-5.6 |
LensProfileEnable | 0 |
LensProfileSetup | LensDefaults |
LightSource | Unknown |
LightValue | 6.0 |
LuminanceAdjustmentAqua | 0 |
LuminanceAdjustmentBlue | 0 |
LuminanceAdjustmentGreen | 0 |
LuminanceAdjustmentMagenta | 0 |
LuminanceAdjustmentOrange | 0 |
LuminanceAdjustmentPurple | 0 |
LuminanceAdjustmentRed | 0 |
LuminanceAdjustmentYellow | 0 |
LuminanceNoiseReductionContrast | 0 |
LuminanceNoiseReductionDetail | 50 |
LuminanceSmoothing | 51 |
Make | SONY |
MaxApertureValue | 4.0 |
Megapixels | 9.8 |
MeteringMode | Multi-segment |
Model | DSLR-A450 |
ModifyDate (1) | 2011:11:15 20:43:01+01:00 |
ModifyDate | 2011:11:15 20:43:01 |
ParametricDarks | 0 |
ParametricHighlights | 0 |
ParametricHighlightSplit | 75 |
ParametricLights | 0 |
ParametricMidtoneSplit | 50 |
ParametricShadows | 0 |
ParametricShadowSplit | 25 |
PerspectiveHorizontal | 0 |
PerspectiveRotate | 0.0 |
PerspectiveScale | 100 |
PerspectiveVertical | 0 |
PostCropVignetteAmount | 0 |
ProcessVersion | 5.7 |
ProfileDescription | sRGB IEC61966-2.1 |
RedHue | 0 |
RedSaturation | 0 |
Saturation (1) | 0 |
Saturation | Normal |
SaturationAdjustmentAqua | 0 |
SaturationAdjustmentBlue | 0 |
SaturationAdjustmentGreen | 0 |
SaturationAdjustmentMagenta | 0 |
SaturationAdjustmentOrange | 0 |
SaturationAdjustmentPurple | 0 |
SaturationAdjustmentRed | 0 |
SaturationAdjustmentYellow | 0 |
ScaleFactor35efl | 1.5 |
SceneCaptureType | Standard |
SceneType | Directly photographed |
Shadows | 0 |
ShadowTint | 0 |
SharpenDetail | 25 |
SharpenEdgeMasking | 0 |
SharpenRadius | +1.0 |
Sharpness (1) | 25 |
Sharpness | Normal |
ShutterSpeed | 2.5 |
ShutterSpeedValue | 2.5 |
Software | Adobe Photoshop Lightroom 3.5 (Windows) |
SplitToningBalance | 0 |
SplitToningHighlightHue | 0 |
SplitToningHighlightSaturation | 0 |
SplitToningShadowHue | 0 |
SplitToningShadowSaturation | 0 |
Tint | +8 |
ToneCurve | 0, 0, 32, 22, 64, 56, 128, 128, 192, 196, 255, 255 |
ToneCurveName | Medium Contrast |
Version | 6.5 |
Vibrance | 0 |
VignetteAmount | 0 |
WhiteBalance (1) | As Shot |
WhiteBalance | Auto |