Felt | Verdi |
AlreadyApplied | True |
Aperture | 2.8 |
ApertureValue | 2.8 |
Artist | Bjorn Leirvik |
BitsPerSample | 8 |
BlueHue | 0 |
BlueSaturation | 0 |
Brightness | +50 |
By-line | Bjorn Leirvik |
CameraProfile | Adobe Standard |
CFAPattern | [Red,Green][Green,Blue] |
ChromaticAberrationB | 0 |
ChromaticAberrationR | 0 |
CircleOfConfusion | 0.030 mm |
Clarity | +55 |
ColorComponents | 1 |
ColorNoiseReduction | 25 |
ColorSpace | Uncalibrated |
ColorTemperature | 4850 |
Contrast (1) | High |
Contrast | Normal |
ConvertToGrayscale | True |
Copyright | Bjorn Leirvik |
CopyrightNotice | Bjorn Leirvik |
CreateDate (1) | 2011:03:09 16:08:41.64+01:00 |
CreateDate | 2011:03:09 16:08:41 |
Creator | Bjorn Leirvik |
CreatorTool | Adobe Photoshop Lightroom 3.3 |
CropAngle | 0 |
CropBottom | 0.812155 |
CropHeight | 720 |
CropLeft | 0.088235 |
CropRight | 0.827206 |
CropTop | 0 |
CropUnit | pixels |
CropWidth | 985 |
CustomRendered | Normal |
DateTimeDigitized | 2011:03:09 16:08:41.64+01:00 |
DateTimeOriginal (1) | 2011:03:09 16:08:41.64+01:00 |
DateTimeOriginal | 2011:03:09 16:08:41 |
Defringe | 0 |
DigitalZoomRatio | 1 |
DOF | 0.016 m (0.702 - 0.718 m) |
ExifImageHeight | 720 |
ExifImageWidth | 985 |
Exposure | +0.45 |
ExposureCompensation | 0 |
ExposureMode | Auto |
ExposureProgram | Aperture-priority AE |
ExposureTime | 1/50 |
FillLight | 7 |
Flash | No Flash |
FlashFired | False |
FlashFunction | False |
FlashMode | Unknown |
FlashRedEyeMode | False |
FlashReturn | No return detection |
FNumber | 2.8 |
FocalLength | 70.0 mm |
FocalLength35efl | 70.0 mm (35 mm equivalent: 70.0 mm) |
FocalLengthIn35mmFormat | 70 mm |
FOV | 28.8 deg |
GainControl | High gain up |
GrayMixerAqua | 0 |
GrayMixerBlue | 0 |
GrayMixerGreen | 0 |
GrayMixerMagenta | 0 |
GrayMixerOrange | 0 |
GrayMixerPurple | 0 |
GrayMixerRed | 0 |
GrayMixerYellow | 0 |
GreenHue | 0 |
GreenSaturation | 0 |
HasCrop | True |
HasSettings | True |
HighlightRecovery | 0 |
HyperfocalDistance | 58.24 m |
ImageHeight (1) | 720 |
ImageHeight | 742 |
ImageNumber | 47623 |
ImageSize | 1007x742 |
ImageWidth (1) | 985 |
ImageWidth | 1007 |
ISO | 1600 |
Lens | 24.0-70.0 mm f/2.8 |
LensID (1) | 147 |
LensID | AF-S Zoom-Nikkor 24-70mm f/2.8G ED |
LensInfo | 24-70mm f/2.8 |
LightSource | Unknown |
LightValue | 4.6 |
LuminanceSmoothing | 0 |
Make | NIKON CORPORATION |
MaxApertureValue | 2.8 |
Megapixels | 0.747 |
MeteringMode | Spot |
Model | NIKON D3 |
ModifyDate (1) | 2011:03:09 22:44:52+01:00 |
ModifyDate | 2011:03:09 22:44:52 |
ParametricDarks | -23 |
ParametricHighlights | 0 |
ParametricHighlightSplit | 75 |
ParametricLights | +19 |
ParametricMidtoneSplit | 50 |
ParametricShadows | 0 |
ParametricShadowSplit | 25 |
PostCropVignetteAmount | -20 |
PostCropVignetteFeather | 50 |
PostCropVignetteMidpoint | 50 |
PostCropVignetteRoundness | 0 |
ProfileDescription | sRGB IEC61966-2.1 |
RedHue | 0 |
RedSaturation | 0 |
Rights | Bjorn Leirvik |
Saturation | Normal |
ScaleFactor35efl | 1.0 |
SceneCaptureType | Standard |
SceneType | Directly photographed |
SensingMethod | One-chip color area |
SerialNumber | 2062773 |
Shadows | 15 |
ShadowTint | 0 |
SharpenDetail | 25 |
SharpenEdgeMasking | 0 |
SharpenRadius | +1.0 |
Sharpness (1) | Hard |
Sharpness | Normal |
ShutterSpeed | 1/50 |
ShutterSpeedValue | 1/50 |
Software | Ver.2.02 |
SplitToningBalance | 0 |
SplitToningHighlightHue | 0 |
SplitToningHighlightSaturation | 0 |
SplitToningShadowHue | 0 |
SplitToningShadowSaturation | 0 |
SubjectDistance | 0.71 m |
SubjectDistanceRange | Unknown |
Tint | +4 |
ToneCurve | 0, 0, 32, 22, 64, 56, 128, 128, 192, 196, 255, 255 |
ToneCurveName | Medium Contrast |
Version | 6.3 |
VignetteAmount | 0 |
WhiteBalance | Auto |