Felt | Verdi |
AlreadyApplied | True |
Aperture | 5.6 |
ApertureValue | 5.6 |
Artist | unknown |
BitsPerSample | 8 |
BlueHue | 0 |
BlueSaturation | 0 |
Brightness | 0 |
By-line | unknown |
CameraProfile | Embedded |
ChromaticAberrationB | +5 |
ChromaticAberrationR | 0 |
CircleOfConfusion | 0.019 mm |
Clarity | -15 |
ColorComponents | 3 |
ColorNoiseReduction | 100 |
Contrast | +35 |
ConvertToGrayscale | False |
CreateDate (1) | 2008:10:23 04:10:03+02:00 |
CreateDate | 2008:10:23 04:10:03 |
Creator | unknown |
CreatorTool | Adobe Photoshop Lightroom |
CropAngle | 0 |
CropBottom | 0.651972 |
CropHeight | 1690 |
CropLeft | 0.309119 |
CropRight | 0.604328 |
CropTop | 0 |
CropUnit | pixels |
CropWidth | 1148 |
CustomRendered | Normal |
DateTimeDigitized | 2008:10:23 04:10:03+02:00 |
DateTimeOriginal (1) | 2008:10:23 04:10:03+02:00 |
DateTimeOriginal | 2008:10:23 04:10:03 |
Defringe | 0 |
ExifImageHeight | 1148 |
ExifImageWidth | 1690 |
Exposure | +0.50 |
ExposureCompensation | 0 |
ExposureMode | Auto |
ExposureProgram | Program AE |
ExposureTime | 1/20 |
FillLight | 0 |
Firmware | 1.0.5 |
Flash | Off, Did not fire |
FlashCompensation | 0 |
FlashFired | False |
FlashFunction | False |
FlashMode | Off |
FlashRedEyeMode | False |
FlashReturn | No return detection |
FNumber | 5.6 |
FocalLength | 55.0 mm |
FocalLength35efl | 55.0 mm (35 mm equivalent: 89.0 mm) |
FOV | 22.9 deg |
GreenHue | 0 |
GreenSaturation | 0 |
HasCrop | True |
HasSettings | True |
HighlightRecovery | 77 |
HueAdjustmentAqua | 0 |
HueAdjustmentBlue | 0 |
HueAdjustmentGreen | 0 |
HueAdjustmentMagenta | 0 |
HueAdjustmentOrange | 0 |
HueAdjustmentPurple | 0 |
HueAdjustmentRed | 0 |
HueAdjustmentYellow | 0 |
HyperfocalDistance | 29.10 m |
ImageHeight | 1148 |
ImageNumber | 32 |
ImageSize | 1690x1148 |
ImageWidth | 1690 |
IncrementalTemperature | +33 |
IncrementalTint | 0 |
ISO | 100 |
Label | Red |
Lens | EF-S18-55mm f/3.5-5.6 |
LensInfo | 18-55mm f/? |
LightValue | 9.3 |
LuminanceAdjustmentAqua | 0 |
LuminanceAdjustmentBlue | 0 |
LuminanceAdjustmentGreen | 0 |
LuminanceAdjustmentMagenta | 0 |
LuminanceAdjustmentOrange | 0 |
LuminanceAdjustmentPurple | 0 |
LuminanceAdjustmentRed | 0 |
LuminanceAdjustmentYellow | 0 |
LuminanceSmoothing | 100 |
Make | Canon |
MaxApertureValue | 5.6 |
Megapixels | 1.9 |
MeteringMode | Partial |
Model | Canon EOS 400D DIGITAL |
ModifyDate (1) | 2010:05:07 11:58:05+02:00 |
ModifyDate | 2010:05:07 11:58:05 |
OwnerName | unknown |
ParametricDarks | -17 |
ParametricHighlights | +69 |
ParametricHighlightSplit | 75 |
ParametricLights | +52 |
ParametricMidtoneSplit | 50 |
ParametricShadows | -47 |
ParametricShadowSplit | 25 |
PostCropVignetteAmount | -100 |
PostCropVignetteFeather | 85 |
PostCropVignetteMidpoint | 32 |
PostCropVignetteRoundness | -38 |
ProfileDescription | sRGB IEC61966-2.1 |
Rating | 2 |
RedHue | 0 |
RedSaturation | 0 |
Saturation | -42 |
SaturationAdjustmentAqua | -100 |
SaturationAdjustmentBlue | -100 |
SaturationAdjustmentGreen | -100 |
SaturationAdjustmentMagenta | -100 |
SaturationAdjustmentOrange | -29 |
SaturationAdjustmentPurple | -100 |
SaturationAdjustmentRed | +8 |
SaturationAdjustmentYellow | -47 |
ScaleFactor35efl | 1.6 |
SceneCaptureType | Standard |
SerialNumber | 930577140 |
Shadows | 14 |
ShadowTint | 0 |
SharpenDetail | 25 |
SharpenEdgeMasking | 0 |
SharpenRadius | +1.0 |
Sharpness | 0 |
ShutterSpeed | 1/20 |
ShutterSpeedValue | 1/20 |
SplitToningBalance | 0 |
SplitToningHighlightHue | 0 |
SplitToningHighlightSaturation | 0 |
SplitToningShadowHue | 0 |
SplitToningShadowSaturation | 0 |
ToneCurve | 0, 0, 255, 255 |
ToneCurveName | Linear |
Version | 5.6 |
Vibrance | -13 |
VignetteAmount | -44 |
VignetteMidpoint | 26 |
WhiteBalance (2) | Custom |
WhiteBalance | Auto |