Felt | Verdi |
AlreadyApplied | True |
Aperture | 4.0 |
ApertureValue | 4.0 |
BitsPerSample | 8 |
BlueHue | 0 |
BlueSaturation | 0 |
Brightness | +50 |
CameraProfile | Adobe Standard |
CFAPattern | [Green,Red][Blue,Green] |
ChromaticAberrationB | 0 |
ChromaticAberrationR | 0 |
CircleOfConfusion | 0.020 mm |
Clarity | 0 |
ColorComponents | 3 |
ColorNoiseReduction | 25 |
ColorTemperature | 5800 |
Contrast (2) | +57 |
Contrast | Normal |
ConvertToGrayscale | False |
CreateDate (1) | 2010:02:14 12:36:38.44+01:00 |
CreateDate | 2010:02:14 12:36:38 |
CreatorTool | Adobe Photoshop Lightroom |
CropAngle | 0 |
CropBottom | 1 |
CropHeight | 2427 |
CropLeft | 0.061797 |
CropRight | 0.998127 |
CropTop | 0.06367 |
CropUnit | pixels |
CropWidth | 3625 |
CustomRendered | Normal |
DateTimeDigitized | 2010:02:14 12:36:38.44+01:00 |
DateTimeOriginal (1) | 2010:02:14 12:36:38.44+01:00 |
DateTimeOriginal | 2010:02:14 12:36:38 |
Defringe | 0 |
DigitalZoomRatio | 1 |
DOF | 0.23 m (3.87 - 4.10 m) |
ExifImageHeight | 3625 |
ExifImageWidth | 2427 |
Exposure | +0.57 |
ExposureCompensation | 0 |
ExposureMode | Auto |
ExposureProgram | Shutter speed priority AE |
ExposureTime | 1/1000 |
FillLight | 0 |
Flash | No Flash |
FlashFired | False |
FlashFunction | False |
FlashMode | Unknown |
FlashRedEyeMode | False |
FlashReturn | No return detection |
FNumber | 4.0 |
FocalLength | 105.0 mm |
FocalLength35efl | 105.0 mm (35 mm equivalent: 157.0 mm) |
FocalLengthIn35mmFormat | 157 mm |
FOV | 13.1 deg |
GainControl | None |
GreenHue | 0 |
GreenSaturation | 0 |
HasCrop | True |
HasSettings | True |
HighlightRecovery | 0 |
HueAdjustmentAqua | 0 |
HueAdjustmentBlue | 0 |
HueAdjustmentGreen | 0 |
HueAdjustmentMagenta | 0 |
HueAdjustmentOrange | 0 |
HueAdjustmentPurple | 0 |
HueAdjustmentRed | 0 |
HueAdjustmentYellow | 0 |
HyperfocalDistance | 137.16 m |
ImageHeight | 3625 |
ImageNumber | 7576 |
ImageSize | 2427x3625 |
ImageWidth | 2427 |
ISO | 250 |
Keywords | ake, kristoffer, snø, vinter |
Lens | 105.0 mm f/2.8 |
LensID (1) | 50 |
LensID | AF Micro-Nikkor 105mm f/2.8D or Sigma Macro 105mm F2.8 EX DG |
LensInfo | 105mm f/2.8 |
LightSource | Unknown |
LightValue | 12.6 |
LuminanceAdjustmentAqua | 0 |
LuminanceAdjustmentBlue | 0 |
LuminanceAdjustmentGreen | 0 |
LuminanceAdjustmentMagenta | 0 |
LuminanceAdjustmentOrange | 0 |
LuminanceAdjustmentPurple | 0 |
LuminanceAdjustmentRed | 0 |
LuminanceAdjustmentYellow | 0 |
LuminanceSmoothing | 0 |
Make | NIKON CORPORATION |
MaxApertureValue | 2.8 |
Megapixels | 8.8 |
MeteringMode | Spot |
Model | NIKON D200 |
ModifyDate (1) | 2010:03:14 16:16:56+01:00 |
ModifyDate | 2010:03:14 16:16:56 |
ParametricDarks | 0 |
ParametricHighlights | +100 |
ParametricHighlightSplit | 75 |
ParametricLights | +21 |
ParametricMidtoneSplit | 50 |
ParametricShadows | 0 |
ParametricShadowSplit | 25 |
PostCropVignetteAmount | 0 |
ProfileDescription | sRGB IEC61966-2.1 |
RedHue | 0 |
RedSaturation | 0 |
Saturation (2) | 0 |
Saturation | Normal |
SaturationAdjustmentAqua | 0 |
SaturationAdjustmentBlue | 0 |
SaturationAdjustmentGreen | 0 |
SaturationAdjustmentMagenta | 0 |
SaturationAdjustmentOrange | 0 |
SaturationAdjustmentPurple | 0 |
SaturationAdjustmentRed | 0 |
SaturationAdjustmentYellow | 0 |
ScaleFactor35efl | 1.5 |
SceneCaptureType | Standard |
SceneType | Directly photographed |
SensingMethod | One-chip color area |
Shadows | 5 |
ShadowTint | 0 |
SharpenDetail | 25 |
SharpenEdgeMasking | 0 |
SharpenRadius | +1.0 |
Sharpness (2) | 25 |
Sharpness | Normal |
ShutterSpeed | 1/1000 |
ShutterSpeedValue | 1/1000 |
Software | Ver.1.00 |
SplitToningBalance | 0 |
SplitToningHighlightHue | 0 |
SplitToningHighlightSaturation | 0 |
SplitToningShadowHue | 0 |
SplitToningShadowSaturation | 0 |
Subject | ake, kristoffer, snø, vinter |
SubjectDistance | 3.98 m |
SubjectDistanceRange | Unknown |
Tint | -13 |
ToneCurve | 0, 0, 32, 22, 64, 56, 128, 128, 192, 196, 255, 255 |
ToneCurveName | Medium Contrast |
Version | 5.6 |
Vibrance | 0 |
VignetteAmount | 0 |
WhiteBalance (2) | Custom |
WhiteBalance | Auto |