Felt | Verdi |
AEBBracketValue | 0 |
AlreadyApplied | True |
Aperture | 5.6 |
ApertureValue | 5.6 |
Artist | Dag Isaksen |
AutoExposureBracketing | Off |
AutoISO | 100 |
BitsPerSample | 8 |
BlueHue | 0 |
BlueSaturation | 0 |
Brightness | 0 |
BulbDuration | 0 |
CameraProfile | Adobe Standard |
CameraType | n/a |
CanonExposureMode | Unknown (-1) |
CanonFirmwareVersion | |
CanonFlashMode | n/a |
CanonImageSize | n/a |
CanonImageType | |
ChromaticAberrationB | 0 |
ChromaticAberrationR | 0 |
CircleOfConfusion | 0.019 mm |
Clarity | +90 |
ColorComponents | 3 |
ColorNoiseReduction | 25 |
ColorSpace | sRGB |
ColorTemperature | 6800 |
ContinuousDrive | Unknown (-1) |
Contrast | +100 |
ControlMode | n/a |
ConvertToGrayscale | False |
CreateDate (1) | 2009:12:27 14:16:49.96+01:00 |
CreateDate | 2009:12:27 14:16:49 |
Creator | Dag Isaksen |
CreatorTool | Adobe Photoshop Lightroom |
CropAngle | 0 |
CropBottom | 1 |
CropHeight | 3168 |
CropLeft | 0 |
CropRight | 0.606928 |
CropTop | 0 |
CropUnit | pixels |
CropWidth | 2884 |
CustomRendered | Normal |
DateTimeDigitized | 2009:12:27 14:16:49.96+01:00 |
DateTimeOriginal (1) | 2009:12:27 14:16:49.96+01:00 |
DateTimeOriginal | 2009:12:27 14:16:49 |
Defringe | 0 |
DigitalZoom | None |
DOF | 0.13 m (2.48 - 2.61 m) |
DriveMode | Continuous Shooting |
EasyMode | Unknown (-1) |
ExifImageHeight (1) | 3168 |
ExifImageHeight | 1000 |
ExifImageWidth (1) | 2884 |
ExifImageWidth | 1000 |
Exposure | +0.83 |
ExposureCompensation | 0 |
ExposureMode | Auto |
ExposureProgram | Program AE |
ExposureTime | 1/6 |
FileNumber | 0 |
FillLight | 0 |
Firmware | 1.0.7 |
Flash | Off, Did not fire |
FlashBits | (none) |
FlashCompensation | 0 |
FlashExposureComp | 0 |
FlashFired | False |
FlashFunction | False |
FlashGuideNumber | 0 |
FlashMode | Off |
FlashRedEyeMode | False |
FlashReturn | No return detection |
FNumber | 5.6 |
FocalLength | 100.0 mm |
FocalLength35efl | 100.0 mm (35 mm equivalent: 158.5 mm) |
FocalUnits | 32/mm |
FocusMode | Single |
FocusRange | Not Known |
FOV | 13.0 deg |
GreenHue | 0 |
GreenSaturation | 0 |
HasCrop | True |
HasSettings | True |
HighlightRecovery | 0 |
HueAdjustmentAqua | 0 |
HueAdjustmentBlue | 0 |
HueAdjustmentGreen | 0 |
HueAdjustmentMagenta | 0 |
HueAdjustmentOrange | 0 |
HueAdjustmentPurple | 0 |
HueAdjustmentRed | 0 |
HueAdjustmentYellow | 0 |
HyperfocalDistance | 94.17 m |
ImageHeight (1) | 3168 |
ImageHeight | 1000 |
ImageNumber | 0 |
ImageSize | 1000x1000 |
ImageWidth (1) | 2884 |
ImageWidth | 1000 |
ISO | 100 |
Lens (1) | EF100mm f/2.8 Macro USM |
Lens | 0.0 mm |
Lens35efl | 0.0 mm (35 mm equivalent: 0.0 mm) |
LensID (1) | 190 |
LensID | n/a |
LensInfo | 100mm f/? |
LensType | n/a |
LightValue | 7.6 |
LuminanceAdjustmentAqua | 0 |
LuminanceAdjustmentBlue | 0 |
LuminanceAdjustmentGreen | 0 |
LuminanceAdjustmentMagenta | 0 |
LuminanceAdjustmentOrange | 0 |
LuminanceAdjustmentPurple | 0 |
LuminanceAdjustmentRed | 0 |
LuminanceAdjustmentYellow | 0 |
LuminanceSmoothing | 0 |
MacroMode | Unknown (0) |
Make | Canon |
ManualFlashOutput | n/a |
MaxApertureValue | 2.8 |
MaxFocalLength | 0 mm |
MeasuredEV | 5.00 |
Megapixels | 1.0 |
MeteringMode (1) | Multi-segment |
MeteringMode | Unknown (-1) |
MinFocalLength | 0 mm |
Model | Canon EOS 50D |
ModifyDate (1) | 2009:12:27 18:56:50+01:00 |
ModifyDate | 2009:12:27 14:16:49 |
NDFilter | n/a |
OpticalZoomCode | n/a |
Orientation | Horizontal (normal) |
OwnerName | Dag Isaksen |
ParametricDarks | 0 |
ParametricHighlights | 0 |
ParametricHighlightSplit | 75 |
ParametricLights | 0 |
ParametricMidtoneSplit | 50 |
ParametricShadows | 0 |
ParametricShadowSplit | 25 |
PostCropVignetteAmount | 0 |
ProfileDescription | sRGB v1.31 (Canon) |
Quality | Normal |
RedHue | 0 |
RedSaturation | 0 |
RelatedImageHeight | 1000 |
RelatedImageWidth | 1000 |
Saturation | 0 |
SaturationAdjustmentAqua | 0 |
SaturationAdjustmentBlue | 0 |
SaturationAdjustmentGreen | 0 |
SaturationAdjustmentMagenta | 0 |
SaturationAdjustmentOrange | 0 |
SaturationAdjustmentPurple | 0 |
SaturationAdjustmentRed | 0 |
SaturationAdjustmentYellow | 0 |
ScaleFactor35efl | 1.6 |
SceneCaptureType | Standard |
SelfTimer | Off |
SequenceNumber | 0 |
SerialNumber | 230106735 |
Shadows | 40 |
ShadowTint | 0 |
SharpenDetail | 25 |
SharpenEdgeMasking | 0 |
SharpenRadius | +1.0 |
Sharpness | 25 |
ShootingMode | Unknown (-1) |
ShutterSpeed | 1/6 |
ShutterSpeedValue | 1/6 |
SlowShutter | None |
Software | Digital Photo Professional |
SplitToningBalance | 0 |
SplitToningHighlightHue | 0 |
SplitToningHighlightSaturation | 0 |
SplitToningShadowHue | 0 |
SplitToningShadowSaturation | 0 |
SRAWQuality | n/a |
SubjectDistance | 2.54 m |
TargetAperture | 5.6 |
TargetExposureTime | 1/6 |
Tint | +27 |
ToneCurve | 0, 0, 32, 22, 64, 56, 128, 128, 192, 196, 255, 255 |
ToneCurveName | Medium Contrast |
UserComment | |
Version | 5.6 |
Vibrance | +45 |
VignetteAmount | 0 |
WhiteBalance (2) | Auto |
WhiteBalance (3) | As Shot |
WhiteBalance | Unknown (-1) |
ZoomSourceWidth | 0 |
ZoomTargetWidth | 0 |