Felt | Verdi |
AlreadyApplied | True |
Aperture | 22.0 |
ApertureValue | 22.0 |
BitsPerSample | 8 |
BlueHue | 0 |
BlueSaturation | 0 |
Brightness | +50 |
CameraProfile | Adobe Standard |
CFAPattern | [Red,Green][Green,Blue] |
ChromaticAberrationB | 0 |
ChromaticAberrationR | 0 |
CircleOfConfusion | 0.020 mm |
Clarity | +48 |
ColorComponents | 3 |
ColorNoiseReduction | 60 |
ColorTemperature | 15254 |
Contrast (2) | +66 |
Contrast | Normal |
ConvertToGrayscale | False |
CreateDate (1) | 2009:10:05 19:08:01.25+02:00 |
CreateDate | 2009:10:05 19:08:01 |
CreatorTool | Adobe Photoshop Lightroom |
CropAngle | 0.841226 |
CropBottom | 0.959561 |
CropHeight | 688 |
CropLeft | 0.017497 |
CropRight | 0.936547 |
CropTop | 0 |
CropUnit | pixels |
CropWidth | 1024 |
CustomRendered | Custom |
DateTimeDigitized | 2009:10:05 19:08:01.25+02:00 |
DateTimeOriginal (1) | 2009:10:05 19:08:01.25+02:00 |
DateTimeOriginal | 2009:10:05 19:08:01 |
Defringe | 0 |
DigitalZoomRatio | 1 |
ExifImageHeight | 688 |
ExifImageWidth | 1024 |
Exposure | +1.70 |
ExposureCompensation | 0 |
ExposureMode | Manual |
ExposureProgram | Manual |
ExposureTime | 20 |
FillLight | 0 |
Flash | No Flash |
FlashFired | False |
FlashFunction | False |
FlashMode | Unknown |
FlashRedEyeMode | False |
FlashReturn | No return detection |
FNumber | 22.0 |
FocalLength | 24.0 mm |
FocalLength35efl | 24.0 mm (35 mm equivalent: 36.0 mm) |
FocalLengthIn35mmFormat | 36 mm |
FOV | 53.1 deg |
GainControl | None |
GradientBasedCorrActive | true |
GradientBasedCorrAmount | 1.000000 |
GradientBasedCorrBrightness | 0.000000 |
GradientBasedCorrClarity (1) | 0.724138 |
GradientBasedCorrClarity (2) | 0.655172 |
GradientBasedCorrClarity (3) | 0.000000 |
GradientBasedCorrClarity | 0.471264 |
GradientBasedCorrContrast (1) | 0.310345 |
GradientBasedCorrContrast (3) | 0.000000 |
GradientBasedCorrContrast | 0.195402 |
GradientBasedCorrExposure (1) | -0.149425 |
GradientBasedCorrExposure (2) | -0.172414 |
GradientBasedCorrExposure (3) | -0.126437 |
GradientBasedCorrExposure | 0.000000 |
GradientBasedCorrHue | 0.000000 |
GradientBasedCorrMaskFullX (1) | 0.433242 |
GradientBasedCorrMaskFullX (2) | 0.908730 |
GradientBasedCorrMaskFullX (3) | -0.005393 |
GradientBasedCorrMaskFullX | 0.662447 |
GradientBasedCorrMaskFullY (1) | 0.178509 |
GradientBasedCorrMaskFullY (2) | 0.492255 |
GradientBasedCorrMaskFullY (3) | 0.496311 |
GradientBasedCorrMaskFullY | 0.984508 |
GradientBasedCorrMaskValue | 1.000000 |
GradientBasedCorrMaskWhat | Mask/Gradient |
GradientBasedCorrMaskZeroX (1) | 0.433242 |
GradientBasedCorrMaskZeroX (2) | -0.078199 |
GradientBasedCorrMaskZeroX (3) | 0.653459 |
GradientBasedCorrMaskZeroX | 0.440433 |
GradientBasedCorrMaskZeroY (1) | 1.158960 |
GradientBasedCorrMaskZeroY (2) | 0.482788 |
GradientBasedCorrMaskZeroY (3) | 0.500368 |
GradientBasedCorrMaskZeroY | 0.528767 |
GradientBasedCorrSaturation (1) | 0.080460 |
GradientBasedCorrSaturation (3) | 0.103448 |
GradientBasedCorrSaturation | 0.000000 |
GradientBasedCorrSharpness | 0.000000 |
GradientBasedCorrWhat | Correction |
GreenHue | 0 |
GreenSaturation | 0 |
HasCrop | True |
HasSettings | True |
HighlightRecovery | 0 |
HueAdjustmentAqua | 0 |
HueAdjustmentBlue | +5 |
HueAdjustmentGreen | 0 |
HueAdjustmentMagenta | 0 |
HueAdjustmentOrange | 0 |
HueAdjustmentPurple | 0 |
HueAdjustmentRed | 0 |
HueAdjustmentYellow | 0 |
HyperfocalDistance | 1.31 m |
ImageHeight | 688 |
ImageNumber | 9278 |
ImageSize | 1024x688 |
ImageWidth | 1024 |
ISO | 200 |
Lens | 10.0-24.0 mm f/3.5-4.5 |
LensInfo | 10-24mm f/3.5-4.5 |
LightSource | Unknown |
LightValue | 3.6 |
LuminanceAdjustmentAqua | 0 |
LuminanceAdjustmentBlue | +15 |
LuminanceAdjustmentGreen | 0 |
LuminanceAdjustmentMagenta | 0 |
LuminanceAdjustmentOrange | 0 |
LuminanceAdjustmentPurple | 0 |
LuminanceAdjustmentRed | 0 |
LuminanceAdjustmentYellow | 0 |
LuminanceSmoothing | 79 |
Make | NIKON CORPORATION |
MaxApertureValue | 4.4 |
Megapixels | 0.705 |
MeteringMode | Multi-segment |
Model | NIKON D300 |
ModifyDate (1) | 2009:10:07 22:38:10+02:00 |
ModifyDate | 2009:10:07 22:38:10 |
ParametricDarks | -5 |
ParametricHighlights | +15 |
ParametricHighlightSplit | 75 |
ParametricLights | +10 |
ParametricMidtoneSplit | 50 |
ParametricShadows | -10 |
ParametricShadowSplit | 25 |
PostCropVignetteAmount | 0 |
ProfileDescription | sRGB IEC61966-2.1 |
RedHue | 0 |
RedSaturation | 0 |
Saturation (2) | -20 |
Saturation | Normal |
SaturationAdjustmentAqua | 0 |
SaturationAdjustmentBlue | +25 |
SaturationAdjustmentGreen | 0 |
SaturationAdjustmentMagenta | 0 |
SaturationAdjustmentOrange | 0 |
SaturationAdjustmentPurple | 0 |
SaturationAdjustmentRed | 0 |
SaturationAdjustmentYellow | 0 |
ScaleFactor35efl | 1.5 |
SceneCaptureType | Standard |
SceneType | Directly photographed |
SensingMethod | One-chip color area |
SerialNumber | 4086657 |
Shadows | 6 |
ShadowTint | 0 |
SharpenDetail | 51 |
SharpenEdgeMasking | 30 |
SharpenRadius | +1.0 |
Sharpness (2) | 75 |
Sharpness | Normal |
ShutterSpeed | 20 |
ShutterSpeedValue | 20 |
Software | Ver.1.10 |
SplitToningBalance | 0 |
SplitToningHighlightHue | 0 |
SplitToningHighlightSaturation | 0 |
SplitToningShadowHue | 0 |
SplitToningShadowSaturation | 0 |
SubjectDistanceRange | Unknown |
Tint | +19 |
ToneCurve | 0, 0, 32, 22, 64, 56, 128, 128, 192, 196, 255, 255 |
ToneCurveName | Medium Contrast |
Version | 5.5 |
Vibrance | +40 |
VignetteAmount | 0 |
WhiteBalance (2) | Custom |
WhiteBalance | Auto |