Felt | Verdi |
AlreadyApplied | True |
Aperture | 6.3 |
ApertureValue | 6.3 |
BitsPerSample (1) | 16, 16, 16 |
BitsPerSample (2) | 16 16 16 |
BitsPerSample | 8 |
BlueHue | 0 |
BlueSaturation | 0 |
Brightness | +57 |
CameraProfile | Adobe Standard |
ChromaticAberrationB | 0 |
ChromaticAberrationR | 0 |
CircleOfConfusion | 0.031 mm |
Clarity | +10 |
ColorComponents | 1 |
ColorMode | RGB |
ColorNoiseReduction | 5 |
ColorSpace | sRGB |
ColorTemperature | 4150 |
Contrast | +36 |
ConvertToGrayscale | True |
CopyrightFlag | False |
CreateDate (1) | 2009:06:17 00:07:44+02:00 |
CreateDate | 2009:06:10 20:44:10 |
CreatorTool | Adobe Photoshop CS3 Windows |
CropAngle | 1.1811 |
CropBottom | 0.999381 |
CropHeight | 3643 |
CropLeft | 0.035672 |
CropRight | 0.884259 |
CropTop | 0 |
CropUnit | pixels |
CropWidth | 4842 |
CustomRendered | Normal |
DateTimeDigitized | 2009:06:10 20:44:10.19+02:00 |
DateTimeOriginal (1) | 2009:06:10 20:44:10.19+02:00 |
DateTimeOriginal | 2009:06:10 20:44:10 |
Defringe | 0 |
ExifImageHeight | 770 |
ExifImageWidth | 1024 |
Exposure | 0.00 |
ExposureCompensation | -2/3 |
ExposureMode | Auto |
ExposureProgram | Aperture-priority AE |
ExposureTime | 1/500 |
FillLight | 25 |
Firmware | 1.0.7 |
Flash | Off, Did not fire |
FlashCompensation | 0 |
FlashFired | False |
FlashFunction | False |
FlashMode | Off |
FlashRedEyeMode | False |
FlashReturn | No return detection |
FNumber | 6.3 |
FocalLength | 200.0 mm |
FocalLength35efl | 200.0 mm (35 mm equivalent: 195.2 mm) |
Format | image/jpeg |
FOV | 10.5 deg |
GrayMixerAqua | -18 |
GrayMixerBlue | +4 |
GrayMixerGreen | -20 |
GrayMixerMagenta | +3 |
GrayMixerOrange | -11 |
GrayMixerPurple | +10 |
GrayMixerRed | -5 |
GrayMixerYellow | -14 |
GreenHue | 0 |
GreenSaturation | 0 |
HasCrop | True |
HasSettings | True |
HighlightRecovery | 100 |
HyperfocalDistance | 206.23 m |
ICCProfileName | sRGB IEC61966-2.1 |
ImageHeight (1) | 3643 |
ImageHeight | 770 |
ImageNumber | 0 |
ImageSize | 1024x770 |
ImageWidth (1) | 4842 |
ImageWidth | 1024 |
ISO | 800 |
Lens | EF100-400mm f/4.5-5.6L IS USM |
LensInfo | 100-400mm f/? |
LightValue | 11.3 |
LuminanceSmoothing | 30 |
Make | Canon |
MaxApertureValue | 5.0 |
Megapixels | 0.788 |
MeteringMode | Multi-segment |
Model | Canon EOS 5D Mark II |
ModifyDate (1) | 2009:06:17 00:08:51+02:00 |
ModifyDate | 2009:06:17 00:08:51 |
Orientation | Horizontal (normal) |
ParametricDarks | 0 |
ParametricHighlights | -38 |
ParametricHighlightSplit | 75 |
ParametricLights | -29 |
ParametricMidtoneSplit | 50 |
ParametricShadows | 0 |
ParametricShadowSplit | 25 |
PhotometricInterpretation | RGB |
PlanarConfiguration | Chunky |
PostCropVignetteAmount | 0 |
ProfileDescription | sRGB IEC61966-2.1 |
RedHue | 0 |
RedSaturation | 0 |
SamplesPerPixel | 3 |
ScaleFactor35efl | 1.0 |
SceneCaptureType | Standard |
SerialNumber | 530320270 |
Shadows | 0 |
ShadowTint | 0 |
SharpenDetail | 30 |
SharpenEdgeMasking | 21 |
SharpenRadius | +1.0 |
Sharpness | 55 |
ShutterSpeed | 1/500 |
ShutterSpeedValue | 1/500 |
Software | Adobe Photoshop CS3 Windows |
SplitToningBalance | 0 |
SplitToningHighlightHue | 0 |
SplitToningHighlightSaturation | 0 |
SplitToningShadowHue | 0 |
SplitToningShadowSaturation | 0 |
Tint | +34 |
ToneCurve | 0, 0, 32, 22, 64, 56, 128, 128, 192, 196, 255, 255 |
ToneCurveName | Medium Contrast |
URL_List | |
Version | 5.3 |
VignetteAmount | 0 |
WhiteBalance (2) | As Shot |
WhiteBalance | Auto |