Felt | Verdi |
AlreadyApplied | True |
Aperture | 4.0 |
ApertureValue | 4.0 |
BitsPerSample (1) | 16, 16, 16 |
BitsPerSample (2) | 16 16 16 |
BitsPerSample | 8 |
BlueHue | 0 |
BlueSaturation | 0 |
Brightness | +46 |
CameraProfile | ACR 4.4 |
ChromaticAberrationB | 0 |
ChromaticAberrationR | 0 |
CircleOfConfusion | 0.019 mm |
Clarity | 15 |
ColorComponents | 3 |
ColorMode | RGB |
ColorNoiseReduction | 39 |
ColorSpace | sRGB |
ColorTemperature | 4950 |
Contrast | +61 |
ConvertToGrayscale | False |
CopyrightFlag | False |
CreateDate (1) | 2008:10:17 18:40:33+02:00 |
CreateDate | 2008:10:11 16:21:22 |
CreatorTool | Adobe Photoshop CS3 Windows |
CropAngle | 0 |
CropBottom | 1 |
CropHeight | 2592 |
CropLeft | 0 |
CropRight | 0.865547 |
CropTop | 0 |
CropUnit | pixels |
CropWidth | 3365 |
CustomRendered | Normal |
DateTimeDigitized | 2008:10:11 16:21:22.35+02:00 |
DateTimeOriginal (1) | 2008:10:11 16:21:22.35+02:00 |
DateTimeOriginal | 2008:10:11 16:21:22 |
Defringe | 0 |
ExifImageHeight | 786 |
ExifImageWidth | 1024 |
Exposure | 0.00 |
ExposureCompensation | -1 |
ExposureMode | Auto |
ExposureProgram | Aperture-priority AE |
ExposureTime | 1/80 |
FillLight | 0 |
Firmware | 1.0.8 |
Flash | Off, Did not fire |
FlashCompensation | 0 |
FlashFired | False |
FlashFunction | False |
FlashMode | Off |
FlashRedEyeMode | False |
FlashReturn | No return detection |
FNumber | 4.0 |
FocalLength | 85.0 mm |
FocalLength35efl | 85.0 mm (35 mm equivalent: 137.6 mm) |
Format | image/jpeg |
FOV | 14.9 deg |
GreenHue | 0 |
GreenSaturation | 0 |
HasCrop | True |
HasSettings | True |
HighlightRecovery | 0 |
HueAdjustmentAqua | 0 |
HueAdjustmentBlue | 0 |
HueAdjustmentGreen | 0 |
HueAdjustmentMagenta | 0 |
HueAdjustmentOrange | 0 |
HueAdjustmentPurple | 0 |
HueAdjustmentRed | 0 |
HueAdjustmentYellow | 0 |
HyperfocalDistance | 97.32 m |
ICCProfileName | sRGB IEC61966-2.1 |
ImageHeight (1) | 2557 |
ImageHeight (2) | 2592 |
ImageHeight | 786 |
ImageNumber | 0 |
ImageSize | 1024x786 |
ImageWidth (1) | 3330 |
ImageWidth (2) | 3365 |
ImageWidth | 1024 |
ISO | 800 |
Lens | EF24-105mm f/4L IS USM |
LensInfo | 24-105mm f/? |
LightValue | 7.3 |
LuminanceAdjustmentAqua | 0 |
LuminanceAdjustmentBlue | 0 |
LuminanceAdjustmentGreen | 0 |
LuminanceAdjustmentMagenta | 0 |
LuminanceAdjustmentOrange | 0 |
LuminanceAdjustmentPurple | 0 |
LuminanceAdjustmentRed | 0 |
LuminanceAdjustmentYellow | 0 |
LuminanceSmoothing | 46 |
Make | Canon |
MaxApertureValue | 4.0 |
Megapixels | 0.805 |
MeteringMode | Multi-segment |
Model | Canon EOS 40D |
ModifyDate (1) | 2008:10:17 18:40:33+02:00 |
ModifyDate | 2008:10:17 18:40:33 |
Orientation | Horizontal (normal) |
ParametricDarks | -10 |
ParametricHighlights | 0 |
ParametricHighlightSplit | 75 |
ParametricLights | 0 |
ParametricMidtoneSplit | 50 |
ParametricShadows | -5 |
ParametricShadowSplit | 25 |
PhotometricInterpretation | RGB |
PlanarConfiguration | Chunky |
ProfileDescription | sRGB IEC61966-2.1 |
RedHue | 0 |
RedSaturation | 0 |
SamplesPerPixel | 3 |
Saturation | -2 |
SaturationAdjustmentAqua | 0 |
SaturationAdjustmentBlue | 0 |
SaturationAdjustmentGreen | 0 |
SaturationAdjustmentMagenta | 0 |
SaturationAdjustmentOrange | 0 |
SaturationAdjustmentPurple | 0 |
SaturationAdjustmentRed | 0 |
SaturationAdjustmentYellow | 0 |
ScaleFactor35efl | 1.6 |
SceneCaptureType | Standard |
SerialNumber | 630444448 |
Shadows | 4 |
ShadowTint | 0 |
SharpenDetail | 43 |
SharpenEdgeMasking | 0 |
SharpenRadius | +1.0 |
Sharpness | 59 |
ShutterSpeed | 1/80 |
ShutterSpeedValue | 1/80 |
Software | Adobe Photoshop CS3 Windows |
SplitToningBalance | 0 |
SplitToningHighlightHue | 0 |
SplitToningHighlightSaturation | 0 |
SplitToningShadowHue | 0 |
SplitToningShadowSaturation | 0 |
Tint | +4 |
ToneCurve | 0, 0, 32, 22, 64, 56, 128, 128, 192, 196, 255, 255 |
ToneCurveName | Medium Contrast |
URL_List | |
Version | 4.4.1 |
Vibrance | -17 |
VignetteAmount | 0 |
WhiteBalance (2) | As Shot |
WhiteBalance | Auto |