Felt | Verdi |
AlreadyApplied | True |
Aperture | 4.0 |
ApertureValue | 4.0 |
BitsPerSample | 8 |
BlueHue | 0 |
BlueSaturation | 0 |
Brightness | 0 |
By-line | ¯ivind R. Nilsen |
CameraProfile | Embedded |
CFAPattern | [Green,Blue][Red,Green] |
ChromaticAberrationB | 0 |
ChromaticAberrationR | 0 |
CircleOfConfusion | 0.020 mm |
Clarity | 45 |
ColorComponents | 3 |
ColorNoiseReduction | 0 |
ColorSpace | Unknown (-1) |
Contrast (2) | 0 |
Contrast | Normal |
ConvertToGrayscale | False |
Copyright | Oivind R. Nilsen |
CopyrightNotice | ¯ivind R. Nilsen |
CreateDate (1) | 2007:11:18 15:52:17.7+01:00 |
CreateDate | 2007:11:18 15:52:17 |
Creator | Øivind R. Nilsen |
CreatorAddress | Sandsmoen 12 |
CreatorPostalCode | 1903 Gan |
CreatorTool | Adobe Photoshop Lightroom |
CropAngle | -1.243233 |
CropBottom | 0.856179 |
CropHeight | 768 |
CropLeft | 0.09348 |
CropRight | 0.997279 |
CropTop | 0.012727 |
CropUnit | pixels |
CropWidth | 526 |
CustomRendered | Normal |
DateTimeDigitized | 2007:11:18 15:52:17.70+01:00 |
DateTimeOriginal (1) | 2007:11:18 15:52:17.70+01:00 |
DateTimeOriginal | 2007:11:18 15:52:17 |
Defringe | 0 |
DigitalZoomRatio | 1 |
ExifImageHeight | 3872 |
ExifImageWidth | 2592 |
Exposure | +0.55 |
ExposureCompensation | 0 |
ExposureMode | Manual |
ExposureProgram | Manual |
ExposureTime | 1/10 |
FillLight | 0 |
Flash | No Flash |
FlashFired | False |
FlashFunction | False |
FlashMode | Unknown |
FlashRedEyeMode | False |
FlashReturn | No return detection |
FNumber | 4.0 |
FocalLength | 12.0 mm |
FocalLength35efl | 12.0 mm (35 mm equivalent: 18.0 mm) |
FocalLengthIn35mmFormat | 18 mm |
Format | application/vnd.adobe.photoshop |
FOV | 90.0 deg |
GainControl | None |
GreenHue | 0 |
GreenSaturation | 0 |
HasCrop | True |
HasSettings | True |
HighlightRecovery | 14 |
HueAdjustmentAqua | 0 |
HueAdjustmentBlue | 0 |
HueAdjustmentGreen | 0 |
HueAdjustmentMagenta | 0 |
HueAdjustmentOrange | 0 |
HueAdjustmentPurple | 0 |
HueAdjustmentRed | 0 |
HueAdjustmentYellow | 0 |
HyperfocalDistance | 1.80 m |
ImageHeight | 768 |
ImageNumber | 786 |
ImageSize | 526x768 |
ImageWidth | 526 |
IncrementalTemperature | +4 |
IncrementalTint | +3 |
ISO | 100 |
Keywords | Fetsund Lensemuseum |
Lens | 12.0-24.0 mm f/4.0 |
LensInfo | 12-24mm f/4 |
LightSource | Unknown |
LightValue | 7.3 |
LuminanceAdjustmentAqua | 0 |
LuminanceAdjustmentBlue | 0 |
LuminanceAdjustmentGreen | 0 |
LuminanceAdjustmentMagenta | 0 |
LuminanceAdjustmentOrange | 0 |
LuminanceAdjustmentPurple | 0 |
LuminanceAdjustmentRed | 0 |
LuminanceAdjustmentYellow | 0 |
LuminanceSmoothing | 0 |
Make | NIKON CORPORATION |
Marked | True |
MaxApertureValue | 4.0 |
Megapixels | 0.404 |
MeteringMode | Spot |
Model | NIKON D40X |
ModifyDate (1) | 2007:11:18 17:53:57+01:00 |
ModifyDate | 2007:11:18 17:53:57 |
ParametricDarks | +51 |
ParametricHighlights | +3 |
ParametricHighlightSplit | 64 |
ParametricLights | 0 |
ParametricMidtoneSplit | 45 |
ParametricShadows | +2 |
ParametricShadowSplit | 23 |
ProfileDescription | sRGB IEC61966-2.1 |
Rating | 1 |
RedHue | 0 |
RedSaturation | 0 |
Rights | Øivind R. Nilsen |
Saturation (2) | +53 |
Saturation | Normal |
SaturationAdjustmentAqua | 0 |
SaturationAdjustmentBlue | 0 |
SaturationAdjustmentGreen | 0 |
SaturationAdjustmentMagenta | 0 |
SaturationAdjustmentOrange | 0 |
SaturationAdjustmentPurple | 0 |
SaturationAdjustmentRed | 0 |
SaturationAdjustmentYellow | 0 |
ScaleFactor35efl | 1.5 |
SceneCaptureType | Standard |
SceneType | Directly photographed |
SensingMethod | One-chip color area |
SerialNumber | 6039650 |
Shadows | 4 |
ShadowTint | 0 |
SharpenDetail | 25 |
SharpenEdgeMasking | 0 |
SharpenRadius | +1.0 |
Sharpness (2) | 47 |
Sharpness | Normal |
ShutterSpeed | 1/10 |
ShutterSpeedValue | 1/10 |
Software | Adobe Photoshop CS3 Macintosh |
SplitToningBalance | 0 |
SplitToningHighlightHue | 0 |
SplitToningHighlightSaturation | 0 |
SplitToningShadowHue | 0 |
SplitToningShadowSaturation | 0 |
Subject | Fetsund Lensemuseum |
SubjectDistanceRange | Unknown |
ToneCurve | 0, 0, 255, 255 |
ToneCurveName | Linear |
Version | 1.0 |
Vibrance | +45 |
VignetteAmount | 0 |
WhiteBalance (2) | Custom |
WhiteBalance | Auto |