Felt | Verdi |
AlreadyApplied | True |
Aperture | 1.7 |
ApertureValue | 1.7 |
BitsPerSample (1) | 8, 8, 8 |
BitsPerSample | 8 |
BlueHue | 0 |
BlueSaturation | 0 |
Brightness | 0 |
BrightnessValue | 9.32 |
By-line | Tonny Froyen Photography |
CameraProfile | Embedded |
CaptionWriter | Meste parten av bildene mine er tatt i og rundt Molde by. Byen ligger i Møre og Romsdal fylke, som en av tre byen. Ålesund, Molde og Kristiansund. Molde ligger i delen av fylket som heter Romsdal. Geografisk så ligger Molde by nokså midt i Norge. Landet ligger ganske langt nord i Europa. |
ChromaticAberrationB | 0 |
ChromaticAberrationR | 0 |
CircleOfConfusion | 0.005 mm |
Clarity | +8 |
ColorComponents | 3 |
ColorMode | RGB |
ColorNoiseReduction | 0 |
ColorSpace | sRGB |
ColorTransform | YCbCr |
Contrast | +1 |
ConvertToGrayscale | False |
copyright Tonny froyen
copyright Tonny Roger Frøyen
copyright tonny.froyen
copyright tonny.froyen |
copyright tonnyfroyen
CopyrightFlag | True |
CopyrightNotice | copyright tonnyfroyen.com
CreateDate (1) | 2016:10:02 14:36:30.0180+02:00 |
CreateDate | 2016:10:02 14:36:30 |
Creator | Tonny Froyen Photography |
CreatorCity | Molde |
CreatorCountry | Norway |
CreatorTool | G935FXXU1BPI2 |
CreatorWorkEmail | tonny.froyen@live.com |
CreatorWorkURL | http://www.tonnyfroyen.com
CropAngle | 0 |
CropBottom | 0.811775 |
CropLeft | 0.000669 |
CropRight | 1 |
CropTop | 0.337199 |
DateCreated (1) | 2016:10:02 14:36:30.18 |
DateCreated | 2016:10:02 |
DateTimeDigitized | 2016:10:02 14:36:30.0180+02:00 |
DateTimeOriginal (1) | 2016:10:02 14:36:30.0180+02:00 |
DateTimeOriginal | 2016:10:02 14:36:30 |
Defringe | 0 |
ExifImageHeight | 1405 |
ExifImageWidth | 4029 |
Exposure | +0.50 |
ExposureCompensation | 0 |
ExposureMode | Auto |
ExposureProgram | Program AE |
ExposureTime | 1/4000 |
FillLight | 0 |
Flash | No Flash |
FlashFired | False |
FlashFunction | False |
FlashMode | Unknown |
FlashRedEyeMode | False |
FlashReturn | No return detection |
FNumber | 1.7 |
FocalLength | 4.2 mm |
FocalLength35efl | 4.2 mm (35 mm equivalent: 26.0 mm) |
FocalLengthIn35mmFormat | 26 mm |
Format | image/jpeg |
FOV | 69.4 deg |
GrainAmount | 0 |
GreenHue | 0 |
GreenSaturation | 0 |
HasCrop | True |
HasSettings | True |
HighlightRecovery | 0 |
https://500px.com/tonnyfroyen/
https://no.pinterest.com/tonnyfroyen/
https://twitter.com/tonnyfroyen
https://www.deviantart.com/tonnyfroyen |
https://www.facebook.com/Tonny.Froyen
https://www.flickr.com/photos/tonnyfroyen/
https://www.instagram.com/tonny.froyen/
HueAdjustmentAqua | 0 |
HueAdjustmentBlue | 0 |
HueAdjustmentGreen | 0 |
HueAdjustmentMagenta | 0 |
HueAdjustmentOrange | 0 |
HueAdjustmentPurple | 0 |
HueAdjustmentRed | 0 |
HueAdjustmentYellow | 0 |
HyperfocalDistance | 2.14 m |
ICCProfileName | sRGB IEC61966-2.1 |
ImageHeight | 1405 |
ImageSize | 4029x1405 |
ImageWidth | 4029 |
IncrementalTemperature | 0 |
IncrementalTint | 0 |
ISO | 50 |
Keywords | landscape, landscapes, nature, photography, Natur, Landskap, Sjø |
LightValue | 14.5 |
LuminanceAdjustmentAqua | 0 |
LuminanceAdjustmentBlue | 0 |
LuminanceAdjustmentGreen | 0 |
LuminanceAdjustmentMagenta | 0 |
LuminanceAdjustmentOrange | 0 |
LuminanceAdjustmentPurple | 0 |
LuminanceAdjustmentRed | 0 |
LuminanceAdjustmentYellow | 0 |
LuminanceSmoothing | 0 |
Make | samsung |
Marked | True |
MaxApertureValue | 1.7 |
Megapixels | 5.7 |
MeteringMode | Center-weighted average |
Model | SM-G935F |
ModifyDate (1) | 2020:09:11 21:06:22+02:00 |
ModifyDate | 2020:09:11 21:06:22 |
Orientation | Horizontal (normal) |
ParametricDarks | 0 |
ParametricHighlights | 0 |
ParametricHighlightSplit | 75 |
ParametricLights | 0 |
ParametricMidtoneSplit | 50 |
ParametricShadows | 0 |
ParametricShadowSplit | 25 |
PhotometricInterpretation | RGB |
PostCropVignetteAmount | 0 |
ProcessVersion | 5.7 |
ProfileDescription | sRGB IEC61966-2.1 |
Rating | 0 |
RawFileName | 20161002_143630.jpg |
RedHue | 0 |
RedSaturation | 0 |
Rights | copyright tonnyfroyen.com
SamplesPerPixel | 3 |
Saturation | 0 |
SaturationAdjustmentAqua | 0 |
SaturationAdjustmentBlue | 0 |
SaturationAdjustmentGreen | 0 |
SaturationAdjustmentMagenta | 0 |
SaturationAdjustmentOrange | 0 |
SaturationAdjustmentPurple | 0 |
SaturationAdjustmentRed | 0 |
SaturationAdjustmentYellow | 0 |
ScaleFactor35efl | 6.2 |
SceneCaptureType | Standard |
Shadows | 1 |
ShadowTint | 0 |
SharpenDetail | 25 |
SharpenEdgeMasking | 0 |
SharpenRadius | +1.0 |
Sharpness | 0 |
ShutterSpeed | 1/4000 |
ShutterSpeedValue | 1/4000 |
Software | Adobe Photoshop CS5 Windows |
SplitToningBalance | 0 |
SplitToningHighlightHue | 0 |
SplitToningHighlightSaturation | 0 |
SplitToningShadowHue | 0 |
SplitToningShadowSaturation | 0 |
Subject | landscape, landscapes, nature, photography, Natur, Landskap, Sjø |
ToneCurve | 0, 0, 255, 255 |
ToneCurveName | Linear |
URL_List | |
Version | 6.0 |
Vibrance | +13 |
VignetteAmount | 0 |
WhiteBalance (1) | As Shot |
WhiteBalance | Auto |
Writer-Editor | Meste parten av bildene mine er |