Felt | Verdi |
AlreadyApplied | True |
Aperture | 11.0 |
ApertureValue | 11.0 |
ApproximateFocusDistance | 5.01 |
AutoLateralCA | 1 |
BitsPerSample | 8 |
Blacks2012 | -21 |
BlueHue | 0 |
BlueSaturation | 0 |
CameraProfile | Adobe Standard |
CFAPattern | [Red,Green][Green,Blue] |
CircGradBasedCorrActive | true |
CircGradBasedCorrAmount | 1.000000 |
CircGradBasedCorrBrightness | 0.000000 |
CircGradBasedCorrClarity2012 (2) | 0.020000 |
CircGradBasedCorrClarity2012 (3) | 0.145300 |
CircGradBasedCorrClarity2012 | 0.000000 |
CircGradBasedCorrContrast2012 (1) | 0.040000 |
CircGradBasedCorrContrast2012 (3) | 0.267860 |
CircGradBasedCorrContrast2012 (4) | 0.092390 |
CircGradBasedCorrContrast2012 (5) | 0.162390 |
CircGradBasedCorrContrast2012 | 0.100000 |
CircGradBasedCorrCorrectionRangeMaskColorAmount | 0.500000 |
CircGradBasedCorrCorrectionRangeMaskDepthFeather | 0.500000 |
CircGradBasedCorrCorrectionRangeMaskDepthMax | 1.000000 |
CircGradBasedCorrCorrectionRangeMaskDepthMin | 0.000000 |
CircGradBasedCorrCorrectionRangeMaskLumFeather | 0.500000 |
CircGradBasedCorrCorrectionRangeMaskLumMax | 1.000000 |
CircGradBasedCorrCorrectionRangeMaskLumMin | 0.000000 |
CircGradBasedCorrCorrectionRangeMaskType | 0 |
CircGradBasedCorrCorrectionRangeMaskVersion | +2 |
CircGradBasedCorrDefringe | 0.000000 |
CircGradBasedCorrExposure2012 (2) | 0.075000 |
CircGradBasedCorrExposure2012 (3) | -0.049000 |
CircGradBasedCorrExposure2012 (4) | 0.025000 |
CircGradBasedCorrExposure2012 | 0.050000 |
CircGradBasedCorrHighlights2012 (2) | 0.000000 |
CircGradBasedCorrHighlights2012 | 0.230770 |
CircGradBasedCorrHue | 0.000000 |
CircGradBasedCorrLocalBlacks2012 (2) | -0.029970 |
CircGradBasedCorrLocalBlacks2012 (3) | -0.021420 |
CircGradBasedCorrLocalBlacks2012 (4) | -0.019980 |
CircGradBasedCorrLocalBlacks2012 (5) | -0.009990 |
CircGradBasedCorrLocalBlacks2012 | 0.000000 |
CircGradBasedCorrLocalDehaze (2) | 0.042740 |
CircGradBasedCorrLocalDehaze | 0.000000 |
CircGradBasedCorrLocalHue | 0.000000 |
CircGradBasedCorrLocalTexture (1) | 0.100000 |
CircGradBasedCorrLocalTexture (2) | 0.179490 |
CircGradBasedCorrLocalTexture (3) | 0.111110 |
CircGradBasedCorrLocalTexture (4) | 0.162390 |
CircGradBasedCorrLocalTexture (5) | 0.076920 |
CircGradBasedCorrLocalTexture | 0.040000 |
CircGradBasedCorrLocalWhites2012 (3) | 0.030000 |
CircGradBasedCorrLocalWhites2012 (4) | 0.050000 |
CircGradBasedCorrLocalWhites2012 (5) | 0.040000 |
CircGradBasedCorrLocalWhites2012 | 0.000000 |
CircGradBasedCorrLuminanceNoise (1) | 0.050000 |
CircGradBasedCorrLuminanceNoise (2) | 0.060000 |
CircGradBasedCorrLuminanceNoise (3) | 0.058550 |
CircGradBasedCorrLuminanceNoise (4) | 0.070000 |
CircGradBasedCorrLuminanceNoise (5) | 0.094020 |
CircGradBasedCorrLuminanceNoise | 0.076920 |
CircGradBasedCorrMaskAngle (2) | -16.794600 |
CircGradBasedCorrMaskAngle (3) | 7.915070 |
CircGradBasedCorrMaskAngle (4) | 0.000000 |
CircGradBasedCorrMaskAngle (5) | 11.294000 |
CircGradBasedCorrMaskAngle | 32.874700 |
CircGradBasedCorrMaskBottom (1) | 0.382454 |
CircGradBasedCorrMaskBottom (2) | 0.273548 |
CircGradBasedCorrMaskBottom (3) | 0.978403 |
CircGradBasedCorrMaskBottom (4) | 0.204959 |
CircGradBasedCorrMaskBottom (5) | 0.273174 |
CircGradBasedCorrMaskBottom | 0.969494 |
CircGradBasedCorrMaskFeather | +50 |
CircGradBasedCorrMaskFlipped | true |
CircGradBasedCorrMaskLeft (1) | -0.047466 |
CircGradBasedCorrMaskLeft (2) | 0.535910 |
CircGradBasedCorrMaskLeft (3) | 0.117299 |
CircGradBasedCorrMaskLeft (4) | 0.543975 |
CircGradBasedCorrMaskLeft (5) | 0.275897 |
CircGradBasedCorrMaskLeft | 0.890377 |
CircGradBasedCorrMaskMidpoint | +50 |
CircGradBasedCorrMaskRight (1) | 0.261962 |
CircGradBasedCorrMaskRight (2) | 0.800506 |
CircGradBasedCorrMaskRight (3) | 0.268179 |
CircGradBasedCorrMaskRight (4) | 0.774499 |
CircGradBasedCorrMaskRight (5) | 0.340510 |
CircGradBasedCorrMaskRight | 0.893439 |
CircGradBasedCorrMaskRoundness | 0 |
CircGradBasedCorrMaskTop (1) | -0.056878 |
CircGradBasedCorrMaskTop (2) | 0.254209 |
CircGradBasedCorrMaskTop (3) | 0.222531 |
CircGradBasedCorrMaskTop (4) | -0.021444 |
CircGradBasedCorrMaskTop (5) | -0.027692 |
CircGradBasedCorrMaskTop | 0.699496 |
CircGradBasedCorrMaskValue | 1.000000 |
CircGradBasedCorrMaskVersion | +2 |
CircGradBasedCorrMaskWhat | Mask/CircularGradient |
CircGradBasedCorrMoire | 0.000000 |
CircGradBasedCorrSaturation (11) | 0.094020 |
CircGradBasedCorrSaturation (3) | 0.050000 |
CircGradBasedCorrSaturation (5) | 0.030000 |
CircGradBasedCorrSaturation (7) | 0.111110 |
CircGradBasedCorrSaturation (9) | 0.076920 |
CircGradBasedCorrSaturation | 0.000000 |
CircGradBasedCorrShadows2012 (1) | 0.080000 |
CircGradBasedCorrShadows2012 (2) | 0.282050 |
CircGradBasedCorrShadows2012 (4) | 0.213680 |
CircGradBasedCorrShadows2012 (5) | 0.196580 |
CircGradBasedCorrShadows2012 | 0.000000 |
CircGradBasedCorrSharpness | 0.000000 |
CircGradBasedCorrTemperature (1) | 0.050000 |
CircGradBasedCorrTemperature | 0.000000 |
CircGradBasedCorrTint | 0.000000 |
CircGradBasedCorrWhat | Correction |
CircleOfConfusion | 0.020 mm |
Clarity2012 | +4 |
ColorComponents | 3 |
ColorNoiseReduction | 25 |
ColorNoiseReductionDetail | 50 |
ColorNoiseReductionSmoothness | 50 |
ColorSpace | sRGB |
ColorTemperature | 5100 |
ColorTransform | YCbCr |
Contrast | Normal |
Contrast2012 | +15 |
ConvertToGrayscale | False |
CreateDate (1) | 2012:09:28 11:15:51.10 |
CreateDate | 2012:09:28 11:15:51 |
CreatorTool | Adobe Photoshop Lightroom Classic 9.4 (Windows) |
CustomRendered | Normal |
DateCreated (1) | 2012:09:28 |
DateCreated | 2012:09:28 11:15:51.10 |
DateTimeOriginal | 2012:09:28 11:15:51 |
DefringeGreenAmount | 0 |
DefringeGreenHueHi | 60 |
DefringeGreenHueLo | 40 |
DefringePurpleAmount | 0 |
DefringePurpleHueHi | 70 |
DefringePurpleHueLo | 30 |
Dehaze | +35 |
DigitalZoomRatio | 1 |
DistortionCorrectionAlreadyApplied | True |
DOF | inf (0.95 m - inf) |
Exposure2012 | +0.20 |
ExposureCompensation | 0 |
ExposureMode | Manual |
ExposureProgram | Manual |
ExposureTime | 1/30 |
Flash | Off, Did not fire |
FNumber | 11.0 |
FocalLength | 16.0 mm |
FocalLength35efl | 16.0 mm (35 mm equivalent: 24.0 mm) |
FocalLengthIn35mmFormat | 24 mm |
Format | image/jpeg |
FOV | 73.7 deg |
GainControl | None |
GrainAmount | 0 |
GreenHue | 0 |
GreenSaturation | 0 |
HasCrop | False |
HasSettings | True |
Highlights2012 | -100 |
HueAdjustmentAqua | 0 |
HueAdjustmentBlue | 0 |
HueAdjustmentGreen | 0 |
HueAdjustmentMagenta | 0 |
HueAdjustmentOrange | -23 |
HueAdjustmentPurple | 0 |
HueAdjustmentRed | 0 |
HueAdjustmentYellow | -42 |
HyperfocalDistance | 1.16 m |
ImageHeight | 1200 |
ImageNumber | 19774 |
ImageSize | 1812x1200 |
ImageWidth | 1812 |
ISO | 100 |
LateralChromaticAberrationCorrectionAlreadyApplied | True |
Lens | 16.0-85.0 mm f/3.5-5.6 |
LensID (1) | 153 |
LensID | AF-S DX VR Zoom-Nikkor 16-85mm f/3.5-5.6G ED |
LensInfo | 16-85mm f/3.5-5.6 |
LensManualDistortionAmount | 0 |
LensModel | 16.0-85.0 mm f/3.5-5.6 |
LensProfileChromaticAberrationScale | 100 |
LensProfileDistortionScale | 100 |
LensProfileEnable | 1 |
LensProfileFilename | NIKON D90 (Nikon AF-S DX NIKKOR 16-85mm f3.5-5.6G ED VR) - RAW.lcp |
LensProfileIsEmbedded | False |
LensProfileName | Adobe (Nikon AF-S DX NIKKOR 16-85mm f/3.5-5.6G ED VR) |
LensProfileSetup | LensDefaults |
LensProfileVignettingScale | 100 |
LightSource | Unknown |
LightValue | 11.8 |
LookName | |
LuminanceAdjustmentAqua | 0 |
LuminanceAdjustmentBlue | 0 |
LuminanceAdjustmentGreen | 0 |
LuminanceAdjustmentMagenta | 0 |
LuminanceAdjustmentOrange | -15 |
LuminanceAdjustmentPurple | 0 |
LuminanceAdjustmentRed | 0 |
LuminanceAdjustmentYellow | -10 |
LuminanceNoiseReductionContrast | 5 |
LuminanceNoiseReductionDetail | 50 |
LuminanceSmoothing | 10 |
Make | NIKON CORPORATION |
MaxApertureValue | 3.5 |
Megapixels | 2.2 |
MeteringMode | Multi-segment |
Model | NIKON D7000 |
ModifyDate (1) | 2020:10:02 17:58:19+02:00 |
ModifyDate | 2020:10:02 17:58:19 |
OverrideLookVignette | True |
ParametricDarks | 0 |
ParametricHighlights | 0 |
ParametricHighlightSplit | 75 |
ParametricLights | 0 |
ParametricMidtoneSplit | 50 |
ParametricShadows | 0 |
ParametricShadowSplit | 25 |
PerspectiveAspect | 0 |
PerspectiveHorizontal | 0 |
PerspectiveRotate | 0.0 |
PerspectiveScale | 100 |
PerspectiveUpright | 0 |
PerspectiveVertical | 0 |
PerspectiveX | 0.00 |
PerspectiveY | 0.00 |
PostCropVignetteAmount | -32 |
PostCropVignetteFeather | 69 |
PostCropVignetteHighlightContrast | 0 |
PostCropVignetteMidpoint | 30 |
PostCropVignetteRoundness | +12 |
PostCropVignetteStyle | 1 |
PreservedFileName | _DSC9712.NEF |
ProcessVersion | 11.0 |
ProfileDescription | sRGB IEC61966-2.1 |
RawFileName | _DSC9712.NEF |
RedHue | 0 |
RedSaturation | 0 |
Saturation (1) | +9 |
Saturation | Normal |
SaturationAdjustmentAqua | 0 |
SaturationAdjustmentBlue | -21 |
SaturationAdjustmentGreen | 0 |
SaturationAdjustmentMagenta | 0 |
SaturationAdjustmentOrange | +32 |
SaturationAdjustmentPurple | 0 |
SaturationAdjustmentRed | +10 |
SaturationAdjustmentYellow | +45 |
ScaleFactor35efl | 1.5 |
SceneCaptureType | Standard |
SceneType | Directly photographed |
SensingMethod | One-chip color area |
SensitivityType | Recommended Exposure Index |
SerialNumber | 6116324 |
Shadows2012 | +66 |
ShadowTint | 0 |
SharpenDetail | 25 |
SharpenEdgeMasking | 20 |
SharpenRadius | +1.0 |
Sharpness (1) | 40 |
Sharpness | Normal |
ShutterSpeed | 1/30 |
ShutterSpeedValue | 1/30 |
Software | Adobe Photoshop Lightroom Classic 9.4 (Windows) |
SplitToningBalance | 0 |
SplitToningHighlightHue | 40 |
SplitToningHighlightSaturation | 15 |
SplitToningShadowHue | 13 |
SplitToningShadowSaturation | 4 |
SubjectDistanceRange | Unknown |
Texture | +20 |
Tint | +11 |
ToneCurve | 0, 0, 255, 255 |
ToneCurveBlue | 0, 0, 255, 255 |
ToneCurveGreen | 0, 0, 255, 255 |
ToneCurveName | Linear |
ToneCurveName2012 | Linear |
ToneCurvePV2012 | 0, 0, 255, 255 |
ToneCurvePV2012Blue | 0, 0, 255, 255 |
ToneCurvePV2012Green | 0, 0, 255, 255 |
ToneCurvePV2012Red | 0, 0, 255, 255 |
ToneCurveRed | 0, 0, 255, 255 |
ToneMapStrength | 0 |
Version | 12.4 |
Vibrance | +17 |
VignetteAmount | 0 |
VignetteCorrectionAlreadyApplied | True |
WhiteBalance (1) | Custom |
WhiteBalance | Auto |
Whites2012 | +40 |