Felt | Verdi |
AlreadyApplied | True |
Aperture | 6.3 |
ApertureValue | 6.3 |
ApproximateFocusDistance | 3.49 |
Artist | Mikkel Nordbaek |
AutoLateralCA | 1 |
AutoWhiteVersion | 134348800 |
BitsPerSample | 8 |
Blacks2012 | -14 |
BlueHue | 0 |
BlueSaturation | 0 |
By-line | Mikkel Nordbaek |
CameraProfile | Adobe Standard |
CircGradBasedCorrActive | true |
CircGradBasedCorrAmount | 1.000000 |
CircGradBasedCorrBrightness | 0.000000 |
CircGradBasedCorrClarity2012 (1) | -1.000000 |
CircGradBasedCorrClarity2012 (6) | 0.062070 |
CircGradBasedCorrClarity2012 | 0.000000 |
CircGradBasedCorrContrast2012 | 0.000000 |
CircGradBasedCorrDefringe | 0.000000 |
CircGradBasedCorrExposure2012 (1) | 0.007000 |
CircGradBasedCorrExposure2012 (2) | 0.241500 |
CircGradBasedCorrExposure2012 (6) | 0.000000 |
CircGradBasedCorrExposure2012 (7) | 0.089750 |
CircGradBasedCorrExposure2012 | 0.131000 |
CircGradBasedCorrHighlights2012 | 0.000000 |
CircGradBasedCorrHue (1) | 9.000000 |
CircGradBasedCorrHue | 0.000000 |
CircGradBasedCorrLocalBlacks2012 | 0.000000 |
CircGradBasedCorrLocalDehaze | 0.000000 |
CircGradBasedCorrLocalWhites2012 | 0.000000 |
CircGradBasedCorrLuminanceNoise | 0.000000 |
CircGradBasedCorrMaskAngle (3) | -21.034600 |
CircGradBasedCorrMaskAngle (5) | 7.008670 |
CircGradBasedCorrMaskAngle (7) | -30.964300 |
CircGradBasedCorrMaskAngle | 0.000000 |
CircGradBasedCorrMaskBottom (1) | 0.517036 |
CircGradBasedCorrMaskBottom (2) | 0.675079 |
CircGradBasedCorrMaskBottom (3) | 0.911464 |
CircGradBasedCorrMaskBottom (4) | 0.824258 |
CircGradBasedCorrMaskBottom (5) | 0.831288 |
CircGradBasedCorrMaskBottom (6) | 0.915746 |
CircGradBasedCorrMaskBottom (7) | 0.608344 |
CircGradBasedCorrMaskBottom | 0.778697 |
CircGradBasedCorrMaskCenterWeight | 0.000000 |
CircGradBasedCorrMaskFeather | +100 |
CircGradBasedCorrMaskFlipped | true |
CircGradBasedCorrMaskFlow (2) | 0.845000 |
CircGradBasedCorrMaskFlow | 1.000000 |
CircGradBasedCorrMaskLeft (1) | 0.778534 |
CircGradBasedCorrMaskLeft (2) | 0.287870 |
CircGradBasedCorrMaskLeft (3) | 0.842584 |
CircGradBasedCorrMaskLeft (4) | 0.800555 |
CircGradBasedCorrMaskLeft (5) | 0.920523 |
CircGradBasedCorrMaskLeft (6) | 0.131644 |
CircGradBasedCorrMaskLeft (7) | 0.660428 |
CircGradBasedCorrMaskLeft | 0.422225 |
CircGradBasedCorrMaskMidpoint | +50 |
CircGradBasedCorrMaskRadius (1) | 0.054986 |
CircGradBasedCorrMaskRadius (2) | 0.054568 |
CircGradBasedCorrMaskRadius | 0.069166 |
CircGradBasedCorrMaskRight (1) | 0.862577 |
CircGradBasedCorrMaskRight (2) | 0.321965 |
CircGradBasedCorrMaskRight (3) | 1.016630 |
CircGradBasedCorrMaskRight (4) | 0.944929 |
CircGradBasedCorrMaskRight (5) | 0.994777 |
CircGradBasedCorrMaskRight (6) | 0.737737 |
CircGradBasedCorrMaskRight (7) | 0.703735 |
CircGradBasedCorrMaskRight | 0.454096 |
CircGradBasedCorrMaskRoundness | 0 |
CircGradBasedCorrMaskTop (1) | 0.385861 |
CircGradBasedCorrMaskTop (2) | 0.625643 |
CircGradBasedCorrMaskTop (3) | 0.739380 |
CircGradBasedCorrMaskTop (4) | 0.768444 |
CircGradBasedCorrMaskTop (5) | 0.731188 |
CircGradBasedCorrMaskTop (6) | 0.423084 |
CircGradBasedCorrMaskTop (7) | 0.579671 |
CircGradBasedCorrMaskTop | 0.730891 |
CircGradBasedCorrMaskValue (8) | 0.000000 |
CircGradBasedCorrMaskValue | 1.000000 |
CircGradBasedCorrMaskVersion | +2 |
CircGradBasedCorrMaskWhat (9) | Mask/Paint |
CircGradBasedCorrMoire | 0.000000 |
CircGradBasedCorrSaturation (11) | 0.048280 |
CircGradBasedCorrSaturation (2) | 1.000000 |
CircGradBasedCorrSaturation | 0.000000 |
CircGradBasedCorrShadows2012 | 0.000000 |
CircGradBasedCorrSharpness (6) | 0.393100 |
CircGradBasedCorrSharpness | 0.000000 |
CircGradBasedCorrTemperature (1) | 1.000000 |
CircGradBasedCorrTemperature (7) | 0.158620 |
CircGradBasedCorrTemperature | 0.000000 |
CircGradBasedCorrTint | 0.000000 |
CircGradBasedCorrWhat | Correction |
CircleOfConfusion | 0.019 mm |
Clarity2012 | +8 |
ColorComponents | 3 |
ColorNoiseReduction | 100 |
ColorNoiseReductionDetail | 50 |
ColorNoiseReductionSmoothness | 50 |
ColorSpace | sRGB |
ColorTemperature | 7586 |
Contrast2012 | +5 |
ConvertToGrayscale | False |
Copyright | Mikkel Nordbaek |
CopyrightNotice | Mikkel Nordbaek |
CreateDate (1) | 2016:09:07 18:31:29.82 |
CreateDate | 2016:09:07 18:31:29 |
Creator | Mikkel Nordbaek |
CropAngle | -0.032462 |
CropBottom | 0.999206 |
CropConstrainToWarp | 0 |
CropLeft | 0.000236 |
CropRight | 0.935028 |
CropTop | 0.000849 |
CustomRendered | Normal |
DateCreated (1) | 2016:09:07 18:31:29.82 |
DateCreated | 2016:09:07 |
DateTimeOriginal | 2016:09:07 18:31:29 |
DefringeGreenAmount | 0 |
DefringeGreenHueHi | 60 |
DefringeGreenHueLo | 40 |
DefringePurpleAmount | 0 |
DefringePurpleHueHi | 70 |
DefringePurpleHueLo | 30 |
Dehaze | 0 |
DOF | 3.40 m (2.48 - 5.88 m) |
ExifImageHeight | 3377 |
ExifImageWidth | 4737 |
Exposure2012 | 0.00 |
ExposureCompensation | 0 |
ExposureMode | Manual |
ExposureProgram | Manual |
ExposureTime | 1/200 |
Firmware | 1.0.9 |
Flash | Off, Did not fire |
FlashCompensation | 0 |
FNumber | 6.3 |
FocalLength | 32.0 mm |
Format | image/jpeg |
FOV | 39.4 deg |
GradientBasedCorrActive | true |
GradientBasedCorrAmount | 1.000000 |
GradientBasedCorrBrightness | 0.000000 |
GradientBasedCorrClarity2012 | 0.000000 |
GradientBasedCorrContrast2012 (1) | -0.103450 |
GradientBasedCorrContrast2012 (2) | 0.144830 |
GradientBasedCorrContrast2012 | 0.000000 |
GradientBasedCorrDefringe | 0.000000 |
GradientBasedCorrExposure2012 (1) | -0.517250 |
GradientBasedCorrExposure2012 (2) | 0.213750 |
GradientBasedCorrExposure2012 (4) | -0.075750 |
GradientBasedCorrExposure2012 | 0.000000 |
GradientBasedCorrHighlights2012 | 0.000000 |
GradientBasedCorrHue (1) | 234.000000 |
GradientBasedCorrHue | 0.000000 |
GradientBasedCorrLocalBlacks2012 | 0.000000 |
GradientBasedCorrLocalDehaze | 0.000000 |
GradientBasedCorrLocalWhites2012 | 0.000000 |
GradientBasedCorrLuminanceNoise | 0.000000 |
GradientBasedCorrMaskCenterWeight | 0.000000 |
GradientBasedCorrMaskFlow (106) | 0.886000 |
GradientBasedCorrMaskFlow (110) | 0.845000 |
GradientBasedCorrMaskFlow (30) | 0.623000 |
GradientBasedCorrMaskFlow (45) | 0.764000 |
GradientBasedCorrMaskFlow (49) | 0.232000 |
GradientBasedCorrMaskFlow (54) | 0.131000 |
GradientBasedCorrMaskFlow (55) | 0.219000 |
GradientBasedCorrMaskFlow (57) | 0.630000 |
GradientBasedCorrMaskFlow (6) | 0.690000 |
GradientBasedCorrMaskFlow (70) | 0.818000 |
GradientBasedCorrMaskFlow | 1.000000 |
GradientBasedCorrMaskFullX (1) | 0.620405 |
GradientBasedCorrMaskFullX (2) | 0.569075 |
GradientBasedCorrMaskFullX (3) | 1.002060 |
GradientBasedCorrMaskFullX (4) | 0.015081 |
GradientBasedCorrMaskFullX | 0.489504 |
GradientBasedCorrMaskFullY (1) | 0.370721 |
GradientBasedCorrMaskFullY (2) | 0.449619 |
GradientBasedCorrMaskFullY (3) | 1.020550 |
GradientBasedCorrMaskFullY (4) | 0.988600 |
GradientBasedCorrMaskFullY | 0.997380 |
GradientBasedCorrMaskRadius (1) | 0.089227 |
GradientBasedCorrMaskRadius (103) | 0.014073 |
GradientBasedCorrMaskRadius (110) | 0.033429 |
GradientBasedCorrMaskRadius (111) | 0.068815 |
GradientBasedCorrMaskRadius (112) | 0.069342 |
GradientBasedCorrMaskRadius (113) | 0.068875 |
GradientBasedCorrMaskRadius (114) | 0.069193 |
GradientBasedCorrMaskRadius (3) | 0.176504 |
GradientBasedCorrMaskRadius (30) | 0.021815 |
GradientBasedCorrMaskRadius (34) | 0.057964 |
GradientBasedCorrMaskRadius (4) | 0.081216 |
GradientBasedCorrMaskRadius (47) | 0.050473 |
GradientBasedCorrMaskRadius (49) | 0.033835 |
GradientBasedCorrMaskRadius (55) | 0.040669 |
GradientBasedCorrMaskRadius (60) | 0.065584 |
GradientBasedCorrMaskRadius (62) | 0.028784 |
GradientBasedCorrMaskRadius (71) | 0.008268 |
GradientBasedCorrMaskRadius (72) | 0.014976 |
GradientBasedCorrMaskRadius (78) | 0.073335 |
GradientBasedCorrMaskRadius (86) | 0.035884 |
GradientBasedCorrMaskRadius (96) | 0.043113 |
GradientBasedCorrMaskRadius (98) | 0.020537 |
GradientBasedCorrMaskRadius | 0.068600 |
GradientBasedCorrMaskValue (37) | 1.000000 |
GradientBasedCorrMaskValue | 0.000000 |
GradientBasedCorrMaskWhat | Mask/Paint |
GradientBasedCorrMaskZeroX (1) | 0.620405 |
GradientBasedCorrMaskZeroX (2) | 0.569075 |
GradientBasedCorrMaskZeroX (3) | 0.775839 |
GradientBasedCorrMaskZeroX (4) | 0.230305 |
GradientBasedCorrMaskZeroX | 0.488888 |
GradientBasedCorrMaskZeroY (1) | 0.696767 |
GradientBasedCorrMaskZeroY (2) | 0.421101 |
GradientBasedCorrMaskZeroY (3) | 0.625010 |
GradientBasedCorrMaskZeroY (4) | 0.721839 |
GradientBasedCorrMaskZeroY | 0.760875 |
GradientBasedCorrMoire | 0.000000 |
GradientBasedCorrSaturation (1) | 0.489660 |
GradientBasedCorrSaturation (2) | 0.660000 |
GradientBasedCorrSaturation (3) | 0.062070 |
GradientBasedCorrSaturation | 0.000000 |
GradientBasedCorrShadows2012 (2) | 0.144830 |
GradientBasedCorrShadows2012 | 0.000000 |
GradientBasedCorrSharpness (2) | 0.000000 |
GradientBasedCorrSharpness | -0.641380 |
GradientBasedCorrTemperature (1) | -0.406900 |
GradientBasedCorrTemperature (2) | 0.131030 |
GradientBasedCorrTemperature | 0.000000 |
GradientBasedCorrTint | 0.000000 |
GradientBasedCorrWhat | Correction |
GrainAmount | 0 |
GreenHue | 0 |
GreenSaturation | 0 |
HasCrop | True |
HasSettings | True |
Highlights2012 | 0 |
HueAdjustmentAqua | 0 |
HueAdjustmentBlue | 0 |
HueAdjustmentGreen | 0 |
HueAdjustmentMagenta | 0 |
HueAdjustmentOrange | 0 |
HueAdjustmentPurple | 0 |
HueAdjustmentRed | 0 |
HueAdjustmentYellow | 0 |
HyperfocalDistance | 8.51 m |
ImageHeight | 3377 |
ImageNumber | 0 |
ImageSize | 4737x3377 |
ImageWidth | 4737 |
ISO | 100 |
Lens | EF-S18-55mm f/3.5-5.6 III |
LensID (1) | 53 |
LensID | Canon EF-S 18-55mm f/3.5-5.6 III |
LensInfo | 18-55mm f/? |
LensManualDistortionAmount | 0 |
LensModel | EF-S18-55mm f/3.5-5.6 III |
LensProfileChromaticAberrationScale | 100 |
LensProfileDistortionScale | 100 |
LensProfileEnable | 1 |
LensProfileSetup | Custom |
LensProfileVignettingScale | 100 |
LightValue | 13.0 |
LuminanceAdjustmentAqua | 0 |
LuminanceAdjustmentBlue | -2 |
LuminanceAdjustmentGreen | +35 |
LuminanceAdjustmentMagenta | 0 |
LuminanceAdjustmentOrange | 0 |
LuminanceAdjustmentPurple | 0 |
LuminanceAdjustmentRed | 0 |
LuminanceAdjustmentYellow | 0 |
LuminanceNoiseReductionContrast | 0 |
LuminanceNoiseReductionDetail | 50 |
LuminanceSmoothing | 23 |
Make | Canon |
MaxApertureValue | 4.4 |
Megapixels | 16.0 |
MeteringMode | Multi-segment |
Model | Canon EOS 550D |
ModifyDate (1) | 2016:09:07 21:33:02+02:00 |
ModifyDate | 2016:09:07 21:33:02 |
PaintCorrectionActive | true |
PaintCorrectionAmount | 1.000000 |
PaintCorrectionBrightness | 0.000000 |
PaintCorrectionClarity2012 | 0.000000 |
PaintCorrectionContrast2012 | 0.000000 |
PaintCorrectionDefringe | 0.000000 |
PaintCorrectionExposure2012 (1) | 0.186250 |
PaintCorrectionExposure2012 (2) | 0.324250 |
PaintCorrectionExposure2012 (3) | 0.131000 |
PaintCorrectionExposure2012 | 0.000000 |
PaintCorrectionHighlights2012 | 0.000000 |
PaintCorrectionHue | 0.000000 |
PaintCorrectionLocalBlacks2012 | 0.000000 |
PaintCorrectionLocalDehaze | 0.000000 |
PaintCorrectionLocalWhites2012 | 0.000000 |
PaintCorrectionLuminanceNoise (3) | 0.000000 |
PaintCorrectionLuminanceNoise | 0.379310 |
PaintCorrectionMaskCenterWeight | 0.000000 |
PaintCorrectionMaskFlow (7) | 1.000000 |
PaintCorrectionMaskFlow | 0.710000 |
PaintCorrectionMaskRadius (1) | 0.084257 |
PaintCorrectionMaskRadius (10) | 0.040381 |
PaintCorrectionMaskRadius (2) | 0.040556 |
PaintCorrectionMaskRadius (3) | 0.027210 |
PaintCorrectionMaskRadius (4) | 0.014075 |
PaintCorrectionMaskRadius (5) | 0.014074 |
PaintCorrectionMaskRadius (6) | 0.027001 |
PaintCorrectionMaskRadius (7) | 0.069355 |
PaintCorrectionMaskRadius (8) | 0.069309 |
PaintCorrectionMaskRadius (9) | 0.069382 |
PaintCorrectionMaskRadius | 0.040624 |
PaintCorrectionMaskValue (8) | 0.000000 |
PaintCorrectionMaskValue | 1.000000 |
PaintCorrectionMaskWhat | Mask/Paint |
PaintCorrectionMoire | 0.000000 |
PaintCorrectionSaturation | 0.000000 |
PaintCorrectionShadows2012 | 0.000000 |
PaintCorrectionSharpness (2) | 0.000000 |
PaintCorrectionSharpness | -0.682760 |
PaintCorrectionTemperature | 0.000000 |
PaintCorrectionTint | 0.000000 |
PaintCorrectionWhat | Correction |
ParametricDarks | +10 |
ParametricHighlights | 0 |
ParametricHighlightSplit | 75 |
ParametricLights | 0 |
ParametricMidtoneSplit | 50 |
ParametricShadows | +8 |
ParametricShadowSplit | 25 |
PerspectiveAspect | 0 |
PerspectiveHorizontal | 0 |
PerspectiveRotate | 0.0 |
PerspectiveScale | 100 |
PerspectiveUpright | 0 |
PerspectiveVertical | 0 |
PerspectiveX | 0.00 |
PerspectiveY | 0.00 |
PostCropVignetteAmount | -8 |
PostCropVignetteFeather | 50 |
PostCropVignetteHighlightContrast | 0 |
PostCropVignetteMidpoint | 50 |
PostCropVignetteRoundness | 0 |
PostCropVignetteStyle | 1 |
ProcessVersion | 6.7 |
ProfileDescription | sRGB IEC61966-2.1 |
RedHue | 0 |
RedSaturation | 0 |
Rights | Mikkel Nordbaek |
Saturation | +27 |
SaturationAdjustmentAqua | 0 |
SaturationAdjustmentBlue | +21 |
SaturationAdjustmentGreen | +42 |
SaturationAdjustmentMagenta | 0 |
SaturationAdjustmentOrange | +22 |
SaturationAdjustmentPurple | 0 |
SaturationAdjustmentRed | 0 |
SaturationAdjustmentYellow | +50 |
ScaleFactor35efl | 1.6 |
SceneCaptureType | Standard |
SerialNumber | 2933541025 |
Shadows2012 | +3 |
ShadowTint | 0 |
SharpenDetail | 25 |
SharpenEdgeMasking | 70 |
SharpenRadius | +1.0 |
Sharpness | 80 |
ShutterSpeed | 1/200 |
ShutterSpeedValue | 1/200 |
SplitToningBalance | 0 |
SplitToningHighlightHue | 0 |
SplitToningHighlightSaturation | 0 |
SplitToningShadowHue | 0 |
SplitToningShadowSaturation | 0 |
Tint | +18 |
ToneCurve | 0, 0, 255, 255 |
ToneCurveBlue | 0, 0, 255, 255 |
ToneCurveGreen | 0, 0, 255, 255 |
ToneCurveName | Linear |
ToneCurveName2012 | Linear |
ToneCurvePV2012 | 0, 0, 255, 255 |
ToneCurvePV2012Blue | 0, 0, 255, 255 |
ToneCurvePV2012Green | 0, 0, 255, 255 |
ToneCurvePV2012Red | 0, 0, 255, 255 |
ToneCurveRed | 0, 0, 255, 255 |
ToneMapStrength | 0 |
Version | 9.6 |
Vibrance | +3 |
VignetteAmount | 0 |
WhiteBalance (1) | Custom |
WhiteBalance | Auto |
Whites2012 | +8 |