Felt | Verdi |
AlreadyApplied | True |
Aperture | 8.0 |
ApertureValue | 8.0 |
ApproximateFocusDistance | 11.9 |
AutoLateralCA | 0 |
BitsPerSample | 8 |
Blacks2012 | 0 |
BlueHue | 0 |
BlueSaturation | 0 |
CameraProfile | Embedded |
CircleOfConfusion | 0.007 mm |
Clarity2012 | +2 |
ColorComponents | 3 |
ColorNoiseReduction | 0 |
ColorTransform | YCbCr |
Contrast2012 | 0 |
ConvertToGrayscale | False |
CreateDate (1) | 2016:06:10 11:00:22.00 |
CreateDate | 2016:06:10 11:00:22 |
CreatorTool | Adobe Photoshop Lightroom 4.2 (Macintosh) |
CustomRendered | Normal |
DateCreated (1) | 2016:06:10 |
DateCreated | 2016:06:10 11:00:22 |
DateTimeOriginal | 2016:06:10 11:00:22 |
DefringeGreenAmount | 0 |
DefringeGreenHueHi | 60 |
DefringeGreenHueLo | 40 |
DefringePurpleAmount | 0 |
DefringePurpleHueHi | 70 |
DefringePurpleHueLo | 30 |
DOF | 7.37 m (9.26 - 16.63 m) |
Exposure2012 | 0.00 |
ExposureCompensation | +1/3 |
ExposureMode | Auto |
ExposureProgram | Aperture-priority AE |
ExposureTime | 1/400 |
Firmware | 1.1.3 |
Flash | Off, Did not fire |
FlashCompensation | 0 |
FNumber | 8.0 |
FocalLength | 47.0 mm |
FocalLength35efl | 47.0 mm (35 mm equivalent: 213.0 mm) |
Format | image/jpeg |
FOV | 9.7 deg |
GradientBasedCorrActive | true |
GradientBasedCorrAmount | 1.000000 |
GradientBasedCorrBrightness | 0.000000 |
GradientBasedCorrClarity2012 (1) | 0.438202 |
GradientBasedCorrClarity2012 (2) | 0.348315 |
GradientBasedCorrClarity2012 | 0.235955 |
GradientBasedCorrContrast2012 | 0.000000 |
GradientBasedCorrDefringe | 0.000000 |
GradientBasedCorrExposure2012 (1) | 0.101124 |
GradientBasedCorrExposure2012 (2) | 0.000000 |
GradientBasedCorrExposure2012 | 0.123596 |
GradientBasedCorrHighlights2012 | 0.033708 |
GradientBasedCorrHue | 241.000000 |
GradientBasedCorrLuminanceNoise | 0.000000 |
GradientBasedCorrMaskFullX (1) | 0.757741 |
GradientBasedCorrMaskFullX (2) | 0.207101 |
GradientBasedCorrMaskFullX | 0.927022 |
GradientBasedCorrMaskFullY (1) | 1.003640 |
GradientBasedCorrMaskFullY (2) | 0.990138 |
GradientBasedCorrMaskFullY | 0.984221 |
GradientBasedCorrMaskValue | 1.000000 |
GradientBasedCorrMaskWhat | Mask/Gradient |
GradientBasedCorrMaskZeroX (1) | 0.451730 |
GradientBasedCorrMaskZeroX (2) | 0.449704 |
GradientBasedCorrMaskZeroX | 0.828402 |
GradientBasedCorrMaskZeroY (1) | 0.519126 |
GradientBasedCorrMaskZeroY (2) | 0.611440 |
GradientBasedCorrMaskZeroY | 0.792899 |
GradientBasedCorrMoire | 0.000000 |
GradientBasedCorrSaturation (1) | 0.033708 |
GradientBasedCorrSaturation (5) | 0.078652 |
GradientBasedCorrSaturation | 0.000000 |
GradientBasedCorrShadows2012 (1) | 0.011236 |
GradientBasedCorrShadows2012 (2) | 0.325843 |
GradientBasedCorrShadows2012 | 0.033708 |
GradientBasedCorrSharpness (1) | -0.011236 |
GradientBasedCorrSharpness | 0.078652 |
GradientBasedCorrTemperature (1) | 0.011236 |
GradientBasedCorrTemperature | 0.033708 |
GradientBasedCorrTint | 0.000000 |
GradientBasedCorrWhat | Correction |
GrainAmount | 0 |
GreenHue | 0 |
GreenSaturation | 0 |
HasCrop | False |
HasSettings | True |
Highlights2012 | 0 |
HueAdjustmentAqua | 0 |
HueAdjustmentBlue | 0 |
HueAdjustmentGreen | 0 |
HueAdjustmentMagenta | 0 |
HueAdjustmentOrange | 0 |
HueAdjustmentPurple | 0 |
HueAdjustmentRed | 0 |
HueAdjustmentYellow | 0 |
HyperfocalDistance | 41.65 m |
ImageHeight | 1080 |
ImageNumber | 0 |
ImageSize | 1080x1080 |
ImageWidth | 1080 |
IncrementalTemperature | 0 |
IncrementalTint | 0 |
ISO | 100 |
Lens | EF24-105mm f/4L IS USM |
LensID (1) | 237 |
LensID | Canon EF 24-105mm f/4L IS USM |
LensInfo | 24-105mm f/? |
LensManualDistortionAmount | 0 |
LensModel | EF24-105mm f/4L IS USM |
LensProfileEnable | 0 |
LensProfileSetup | LensDefaults |
LensSerialNumber | 00001358b7 |
LightValue | 14.6 |
LuminanceAdjustmentAqua | 0 |
LuminanceAdjustmentBlue | 0 |
LuminanceAdjustmentGreen | 0 |
LuminanceAdjustmentMagenta | 0 |
LuminanceAdjustmentOrange | 0 |
LuminanceAdjustmentPurple | 0 |
LuminanceAdjustmentRed | 0 |
LuminanceAdjustmentYellow | 0 |
LuminanceSmoothing | 0 |
Make | Canon |
MaxApertureValue | 4.0 |
Megapixels | 1.2 |
MeteringMode | Multi-segment |
Model | Canon EOS 5D Mark III |
ModifyDate (1) | 2016:06:23 20:31:11+02:00 |
ModifyDate | 2016:06:23 20:31:11 |
PaintCorrectionActive | true |
PaintCorrectionAmount | 1.000000 |
PaintCorrectionBrightness | 0.000000 |
PaintCorrectionClarity2012 (4) | 0.033708 |
PaintCorrectionClarity2012 (5) | -0.415730 |
PaintCorrectionClarity2012 (6) | 0.235955 |
PaintCorrectionClarity2012 (7) | 0.085955 |
PaintCorrectionClarity2012 | -0.123596 |
PaintCorrectionContrast2012 | 0.000000 |
PaintCorrectionDefringe | 0.000000 |
PaintCorrectionExposure2012 (1) | 0.168539 |
PaintCorrectionExposure2012 (2) | 0.101124 |
PaintCorrectionExposure2012 (4) | -0.235955 |
PaintCorrectionExposure2012 (5) | -0.393258 |
PaintCorrectionExposure2012 (6) | 0.123596 |
PaintCorrectionExposure2012 (7) | -0.280899 |
PaintCorrectionExposure2012 (8) | 0.235955 |
PaintCorrectionExposure2012 | 0.280899 |
PaintCorrectionHighlights2012 (5) | 0.095560 |
PaintCorrectionHighlights2012 (7) | 0.012279 |
PaintCorrectionHighlights2012 | 0.033708 |
PaintCorrectionHue | 241.000000 |
PaintCorrectionLuminanceNoise | 0.000000 |
PaintCorrectionMaskCenterWeight (2) | 0.022055 |
PaintCorrectionMaskCenterWeight | 0.151502 |
PaintCorrectionMaskFlow (7) | 0.931724 |
PaintCorrectionMaskFlow | 0.695385 |
PaintCorrectionMaskRadius (1) | 0.027486 |
PaintCorrectionMaskRadius (11) | 0.070827 |
PaintCorrectionMaskRadius (15) | 0.057601 |
PaintCorrectionMaskRadius (3) | 0.010645 |
PaintCorrectionMaskRadius (5) | 0.068620 |
PaintCorrectionMaskRadius (8) | 0.128140 |
PaintCorrectionMaskRadius | 0.175753 |
PaintCorrectionMaskValue | 0.494505 |
PaintCorrectionMaskWhat | Mask/Paint |
PaintCorrectionMoire | 0.000000 |
PaintCorrectionSaturation (13) | 0.028652 |
PaintCorrectionSaturation (3) | 0.033708 |
PaintCorrectionSaturation (9) | 0.078652 |
PaintCorrectionSaturation | 0.000000 |
PaintCorrectionShadows2012 (3) | 0.011236 |
PaintCorrectionShadows2012 (5) | 0.095560 |
PaintCorrectionShadows2012 (7) | 0.012279 |
PaintCorrectionShadows2012 | 0.033708 |
PaintCorrectionSharpness (2) | -0.011236 |
PaintCorrectionSharpness (5) | 0.222973 |
PaintCorrectionSharpness (7) | 0.028652 |
PaintCorrectionSharpness | 0.078652 |
PaintCorrectionTemperature (4) | 0.011236 |
PaintCorrectionTemperature (5) | 0.095560 |
PaintCorrectionTemperature (7) | 0.012279 |
PaintCorrectionTemperature | 0.033708 |
PaintCorrectionTint | 0.000000 |
PaintCorrectionWhat | Correction |
ParametricDarks | 0 |
ParametricHighlights | 0 |
ParametricHighlightSplit | 75 |
ParametricLights | 0 |
ParametricMidtoneSplit | 50 |
ParametricShadows | 0 |
ParametricShadowSplit | 25 |
PerspectiveHorizontal | 0 |
PerspectiveRotate | 0.0 |
PerspectiveScale | 100 |
PerspectiveVertical | 0 |
PostCropVignetteAmount | 0 |
ProcessVersion | 6.7 |
ProfileDescription | sRGB IEC61966-2.1 |
RecommendedExposureIndex | 100 |
RedHue | 0 |
RedSaturation | 0 |
Saturation | 0 |
SaturationAdjustmentAqua | 0 |
SaturationAdjustmentBlue | 0 |
SaturationAdjustmentGreen | 0 |
SaturationAdjustmentMagenta | 0 |
SaturationAdjustmentOrange | 0 |
SaturationAdjustmentPurple | 0 |
SaturationAdjustmentRed | 0 |
SaturationAdjustmentYellow | 0 |
ScaleFactor35efl | 4.5 |
SceneCaptureType | Standard |
SensitivityType | Recommended Exposure Index |
SerialNumber | 053024006446 |
Shadows2012 | 0 |
ShadowTint | 0 |
SharpenDetail | 25 |
SharpenEdgeMasking | 0 |
SharpenRadius | +1.0 |
Sharpness | 0 |
ShutterSpeed | 1/400 |
ShutterSpeedValue | 1/400 |
Software | Adobe Photoshop Lightroom 4.2 (Macintosh) |
SplitToningBalance | 0 |
SplitToningHighlightHue | 0 |
SplitToningHighlightSaturation | 0 |
SplitToningShadowHue | 0 |
SplitToningShadowSaturation | 0 |
ToneCurveName2012 | Linear |
ToneCurvePV2012 | 0, 0, 255, 255 |
ToneCurvePV2012Blue | 0, 0, 255, 255 |
ToneCurvePV2012Green | 0, 0, 255, 255 |
ToneCurvePV2012Red | 0, 0, 255, 255 |
Version | 7.2 |
Vibrance | 0 |
VignetteAmount | 0 |
WhiteBalance (1) | As Shot |
WhiteBalance | Auto |
Whites2012 | 0 |