Felt | Verdi |
AlreadyApplied | True |
Aperture | 6.3 |
ApertureValue | 6.3 |
ApproximateFocusDistance | 1.81 |
AutoLateralCA | 0 |
BitsPerSample | 8 |
Blacks2012 | 0 |
BlueHue | 0 |
BlueSaturation | 0 |
CameraProfile | Embedded |
Caption-Abstract | OLYMPUS DIGITAL CAMERA |
CFAPattern | [Blue,Green][Green,Red] |
CircleOfConfusion | 0.015 mm |
Clarity2012 | -51 |
ColorComponents | 3 |
ColorNoiseReduction | 0 |
ColorTransform | YCbCr |
Contrast | Normal |
Contrast2012 | 0 |
ConvertToGrayscale | False |
CreateDate | 2016:05:29 13:05:25 |
CreatorTool | Adobe Photoshop Lightroom 4.2 (Macintosh) |
CustomRendered | Normal |
DateCreated (1) | 2016:05:29 |
DateCreated | 2016:05:29 13:05:25 |
DateTimeOriginal | 2016:05:29 13:05:25 |
DefringeGreenAmount | 0 |
DefringeGreenHueHi | 60 |
DefringeGreenHueLo | 40 |
DefringePurpleAmount | 0 |
DefringePurpleHueHi | 70 |
DefringePurpleHueLo | 30 |
Description | OLYMPUS DIGITAL CAMERA |
DigitalZoomRatio | 1 |
DOF | 0.38 m (1.64 - 2.02 m) |
Exposure2012 | +0.90 |
ExposureCompensation | +2.3 |
ExposureMode | Manual |
ExposureProgram | Program AE |
ExposureTime | 1/400 |
Flash | Auto, Did not fire |
FlashCompensation | 0 |
FNumber | 6.3 |
FocalLength | 40.0 mm |
FocalLength35efl | 40.0 mm (35 mm equivalent: 80.0 mm) |
FocalLengthIn35mmFormat | 80 mm |
Format | image/jpeg |
FOV | 25.4 deg |
GainControl | Low gain up |
GrainAmount | 0 |
GreenHue | 0 |
GreenSaturation | 0 |
HasCrop | False |
HasSettings | True |
Highlights2012 | -84 |
HueAdjustmentAqua | 0 |
HueAdjustmentBlue | 0 |
HueAdjustmentGreen | 0 |
HueAdjustmentMagenta | 0 |
HueAdjustmentOrange | 0 |
HueAdjustmentPurple | 0 |
HueAdjustmentRed | 0 |
HueAdjustmentYellow | 0 |
HyperfocalDistance | 16.91 m |
ImageDescription | OLYMPUS DIGITAL CAMERA |
ImageHeight | 1080 |
ImageSize | 1440x1080 |
ImageWidth | 1440 |
IncrementalTemperature | 0 |
IncrementalTint | 0 |
ISO | 200 |
Lens | OLYMPUS M.12-40mm F2.8 |
LensInfo | 12-40mm f/2.8 |
LensManualDistortionAmount | 0 |
LensModel | OLYMPUS M.12-40mm F2.8 |
LensProfileEnable | 0 |
LensProfileSetup | LensDefaults |
LensSerialNumber | AC5302857 |
LightSource | Unknown |
LightValue | 13.0 |
LuminanceAdjustmentAqua | 0 |
LuminanceAdjustmentBlue | 0 |
LuminanceAdjustmentGreen | 0 |
LuminanceAdjustmentMagenta | 0 |
LuminanceAdjustmentOrange | 0 |
LuminanceAdjustmentPurple | 0 |
LuminanceAdjustmentRed | 0 |
LuminanceAdjustmentYellow | 0 |
LuminanceSmoothing | 0 |
Make | OLYMPUS IMAGING CORP. |
MaxApertureValue | 2.8 |
Megapixels | 1.6 |
MeteringMode | Center-weighted average |
Model | E-M1 |
ModifyDate (1) | 2016:06:26 18:23:24+02:00 |
ModifyDate | 2016:06:26 18:23:24 |
PaintCorrectionActive | true |
PaintCorrectionAmount | 1.000000 |
PaintCorrectionBrightness | 0.000000 |
PaintCorrectionClarity2012 | -0.123596 |
PaintCorrectionContrast2012 | 0.000000 |
PaintCorrectionDefringe | 0.000000 |
PaintCorrectionExposure2012 | 0.123596 |
PaintCorrectionHighlights2012 | 0.033708 |
PaintCorrectionHue | 241.000000 |
PaintCorrectionLuminanceNoise | 0.000000 |
PaintCorrectionMaskCenterWeight | 0.151502 |
PaintCorrectionMaskFlow | 0.695385 |
PaintCorrectionMaskRadius | 0.107678 |
PaintCorrectionMaskValue | 0.494505 |
PaintCorrectionMaskWhat | Mask/Paint |
PaintCorrectionMoire | 0.000000 |
PaintCorrectionSaturation (1) | 0.078652 |
PaintCorrectionSaturation | 0.000000 |
PaintCorrectionShadows2012 | 0.033708 |
PaintCorrectionSharpness | 0.078652 |
PaintCorrectionTemperature | 0.033708 |
PaintCorrectionTint | 0.000000 |
PaintCorrectionWhat | Correction |
ParametricDarks | 0 |
ParametricHighlights | 0 |
ParametricHighlightSplit | 75 |
ParametricLights | 0 |
ParametricMidtoneSplit | 50 |
ParametricShadows | 0 |
ParametricShadowSplit | 25 |
PerspectiveHorizontal | 0 |
PerspectiveRotate | 0.0 |
PerspectiveScale | 100 |
PerspectiveVertical | 0 |
PostCropVignetteAmount | 0 |
ProcessVersion | 6.7 |
ProfileDescription | sRGB IEC61966-2.1 |
RedHue | 0 |
RedSaturation | 0 |
Saturation (1) | 0 |
Saturation | Normal |
SaturationAdjustmentAqua | 0 |
SaturationAdjustmentBlue | 0 |
SaturationAdjustmentGreen | 0 |
SaturationAdjustmentMagenta | 0 |
SaturationAdjustmentOrange | 0 |
SaturationAdjustmentPurple | 0 |
SaturationAdjustmentRed | 0 |
SaturationAdjustmentYellow | 0 |
ScaleFactor35efl | 2.0 |
SceneCaptureType | Standard |
SensitivityType | Standard Output Sensitivity |
SerialNumber | BHP300312 |
Shadows2012 | +4 |
ShadowTint | 0 |
SharpenDetail | 25 |
SharpenEdgeMasking | 0 |
SharpenRadius | +1.0 |
Sharpness (1) | 0 |
Sharpness | Normal |
ShutterSpeed | 1/400 |
ShutterSpeedValue | 1/400 |
Software | Adobe Photoshop Lightroom 4.2 (Macintosh) |
SplitToningBalance | 0 |
SplitToningHighlightHue | 0 |
SplitToningHighlightSaturation | 0 |
SplitToningShadowHue | 0 |
SplitToningShadowSaturation | 0 |
ToneCurveName2012 | Linear |
ToneCurvePV2012 | 0, 0, 255, 255 |
ToneCurvePV2012Blue | 0, 0, 255, 255 |
ToneCurvePV2012Green | 0, 0, 255, 255 |
ToneCurvePV2012Red | 0, 0, 255, 255 |
Version | 7.2 |
Vibrance | 0 |
VignetteAmount | 0 |
WhiteBalance (1) | As Shot |
WhiteBalance | Auto |
Whites2012 | 0 |