Felt | Verdi |
AlreadyApplied | True |
Aperture | 8.0 |
ApertureValue | 8.0 |
ApproximateFocusDistance | 4294967295 |
AutoLateralCA | 1 |
AutoWhiteVersion | 134348800 |
BitsPerSample | 8 |
Blacks2012 | 0 |
BlueHue | 0 |
BlueSaturation | 0 |
CameraProfile | Adobe Standard |
CircleOfConfusion | 0.019 mm |
Clarity2012 | +26 |
ColorComponents | 3 |
ColorNoiseReduction | 39 |
ColorNoiseReductionDetail | 50 |
ColorNoiseReductionSmoothness | 50 |
ColorSpace | sRGB |
ColorTemperature | 7150 |
ColorTransform | YCbCr |
Contrast2012 | +30 |
ConvertToGrayscale | False |
CreateDate (1) | 2015:09:26 18:38:34.00 |
CreateDate | 2015:09:26 18:38:34 |
CreatorTool | Adobe Photoshop Lightroom 6.1.1 (Windows) |
CustomRendered | Normal |
DateCreated (1) | 2015:09:26 |
DateCreated | 2015:09:26 18:38:34.00 |
DateTimeOriginal | 2015:09:26 18:38:34 |
DefringeGreenAmount | 0 |
DefringeGreenHueHi | 60 |
DefringeGreenHueLo | 40 |
DefringePurpleAmount | 20 |
DefringePurpleHueHi | 70 |
DefringePurpleHueLo | 10 |
Dehaze | 0 |
DOF | inf (2.12 m - inf) |
Exposure2012 | -0.10 |
ExposureCompensation | 0 |
ExposureMode | Auto |
ExposureProgram | Aperture-priority AE |
ExposureTime | 1/10 |
Firmware | 1.0.9 |
Flash | Off, Did not fire |
FlashCompensation | 0 |
FNumber | 8.0 |
FocalLength | 18.0 mm |
FocalLength35efl | 18.0 mm (35 mm equivalent: 28.3 mm) |
Format | image/jpeg |
FOV | 64.9 deg |
GrainAmount | 0 |
GreenHue | 0 |
GreenSaturation | 0 |
HasCrop | False |
HasExtendedXMP | 032F61C290996BE15BFBAA9E408C0006 |
HasSettings | True |
Highlights2012 | -100 |
HueAdjustmentAqua | 0 |
HueAdjustmentBlue | 0 |
HueAdjustmentGreen | 0 |
HueAdjustmentMagenta | 0 |
HueAdjustmentOrange | 0 |
HueAdjustmentPurple | 0 |
HueAdjustmentRed | 0 |
HueAdjustmentYellow | 0 |
HyperfocalDistance | 2.12 m |
ImageHeight | 3456 |
ImageNumber | 0 |
ImageSize | 5184x3456 |
ImageWidth | 5184 |
ISO | 800 |
Lens | EF-S18-55mm f/3.5-5.6 IS |
LensID (1) | 48 |
LensID | Canon EF-S 18-55mm f/3.5-5.6 IS |
LensInfo | 18-55mm f/? |
LensManualDistortionAmount | 0 |
LensModel | EF-S18-55mm f/3.5-5.6 IS |
LensProfileChromaticAberrationScale | 100 |
LensProfileDistortionScale | 100 |
LensProfileEnable | 1 |
LensProfileFilename | Canon EOS 50D (Canon EF-S 18-55mm f3.5-5.6 IS) - RAW.lcp |
LensProfileName | Adobe (Canon EF-S 18-55mm f/3.5-5.6 IS) |
LensProfileSetup | LensDefaults |
LensProfileVignettingScale | 100 |
LightValue | 6.3 |
LuminanceAdjustmentAqua | 0 |
LuminanceAdjustmentBlue | 0 |
LuminanceAdjustmentGreen | 0 |
LuminanceAdjustmentMagenta | 0 |
LuminanceAdjustmentOrange | 0 |
LuminanceAdjustmentPurple | 0 |
LuminanceAdjustmentRed | 0 |
LuminanceAdjustmentYellow | 0 |
LuminanceNoiseReductionContrast | 0 |
LuminanceNoiseReductionDetail | 50 |
LuminanceSmoothing | 15 |
Make | Canon |
MaxApertureValue | 3.5 |
Megapixels | 17.9 |
MeteringMode | Multi-segment |
Model | Canon EOS 550D |
ModifyDate (1) | 2015:10:03 22:52:07+02:00 |
ModifyDate | 2015:10:03 22:52:07 |
PaintCorrectionActive | true |
PaintCorrectionAmount | 1.000000 |
PaintCorrectionBrightness | 0.000000 |
PaintCorrectionClarity2012 (1) | -0.494250 |
PaintCorrectionClarity2012 (2) | 0.724140 |
PaintCorrectionClarity2012 (3) | 0.333330 |
PaintCorrectionClarity2012 (4) | 0.172410 |
PaintCorrectionClarity2012 | 0.195400 |
PaintCorrectionContrast2012 (1) | -0.356320 |
PaintCorrectionContrast2012 (2) | 0.517240 |
PaintCorrectionContrast2012 (4) | 0.000000 |
PaintCorrectionContrast2012 | 0.195400 |
PaintCorrectionDefringe | 0.000000 |
PaintCorrectionExposure2012 (2) | 0.011500 |
PaintCorrectionExposure2012 (3) | 0.172500 |
PaintCorrectionExposure2012 (4) | -0.034500 |
PaintCorrectionExposure2012 | 0.000000 |
PaintCorrectionHighlights2012 (2) | -0.310340 |
PaintCorrectionHighlights2012 (4) | -0.678160 |
PaintCorrectionHighlights2012 | 0.000000 |
PaintCorrectionHue | 0.000000 |
PaintCorrectionLocalBlacks2012 (1) | -0.218390 |
PaintCorrectionLocalBlacks2012 (2) | 0.080460 |
PaintCorrectionLocalBlacks2012 (3) | 0.000000 |
PaintCorrectionLocalBlacks2012 | 0.195400 |
PaintCorrectionLocalWhites2012 (1) | 0.149430 |
PaintCorrectionLocalWhites2012 (2) | 0.000000 |
PaintCorrectionLocalWhites2012 | -0.011490 |
PaintCorrectionLuminanceNoise | 0.000000 |
PaintCorrectionMaskCenterWeight | 0.000000 |
PaintCorrectionMaskFlow (1) | 0.711000 |
PaintCorrectionMaskFlow | 0.900000 |
PaintCorrectionMaskRadius (1) | 0.056076 |
PaintCorrectionMaskRadius (10) | 0.057533 |
PaintCorrectionMaskRadius (11) | 0.058281 |
PaintCorrectionMaskRadius (12) | 0.033425 |
PaintCorrectionMaskRadius (13) | 0.045742 |
PaintCorrectionMaskRadius (14) | 0.046050 |
PaintCorrectionMaskRadius (15) | 0.017465 |
PaintCorrectionMaskRadius (16) | 0.017777 |
PaintCorrectionMaskRadius (17) | 0.017854 |
PaintCorrectionMaskRadius (18) | 0.017278 |
PaintCorrectionMaskRadius (19) | 0.053869 |
PaintCorrectionMaskRadius (2) | 0.055395 |
PaintCorrectionMaskRadius (3) | 0.056397 |
PaintCorrectionMaskRadius (4) | 0.054119 |
PaintCorrectionMaskRadius (5) | 0.057642 |
PaintCorrectionMaskRadius (6) | 0.056180 |
PaintCorrectionMaskRadius (7) | 0.054666 |
PaintCorrectionMaskRadius (8) | 0.056970 |
PaintCorrectionMaskRadius (9) | 0.057377 |
PaintCorrectionMaskRadius | 0.054581 |
PaintCorrectionMaskValue | 0.798000 |
PaintCorrectionMaskWhat | Mask/Paint |
PaintCorrectionMoire | 0.000000 |
PaintCorrectionSaturation (1) | -0.172410 |
PaintCorrectionSaturation (3) | 0.172410 |
PaintCorrectionSaturation | 0.000000 |
PaintCorrectionShadows2012 (1) | 1.000000 |
PaintCorrectionShadows2012 (2) | 0.080460 |
PaintCorrectionShadows2012 (3) | 0.954020 |
PaintCorrectionShadows2012 (4) | -0.126440 |
PaintCorrectionShadows2012 | 0.149430 |
PaintCorrectionSharpness (1) | -0.172410 |
PaintCorrectionSharpness | 0.000000 |
PaintCorrectionTemperature (1) | -0.379310 |
PaintCorrectionTemperature (2) | 0.149430 |
PaintCorrectionTemperature | 0.000000 |
PaintCorrectionTint (1) | -0.195400 |
PaintCorrectionTint (2) | 0.195400 |
PaintCorrectionTint (3) | 0.000000 |
PaintCorrectionTint | 0.264370 |
PaintCorrectionWhat | Correction |
ParametricDarks | -7 |
ParametricHighlights | -20 |
ParametricHighlightSplit | 75 |
ParametricLights | -20 |
ParametricMidtoneSplit | 50 |
ParametricShadows | -11 |
ParametricShadowSplit | 25 |
PerspectiveAspect | 0 |
PerspectiveHorizontal | 0 |
PerspectiveRotate | 0.0 |
PerspectiveScale | 100 |
PerspectiveUpright | 0 |
PerspectiveVertical | 0 |
PostCropVignetteAmount | 0 |
ProcessVersion | 6.7 |
ProfileDescription | sRGB IEC61966-2.1 |
RedHue | 0 |
RedSaturation | 0 |
Saturation | -7 |
SaturationAdjustmentAqua | 0 |
SaturationAdjustmentBlue | +40 |
SaturationAdjustmentGreen | +38 |
SaturationAdjustmentMagenta | +36 |
SaturationAdjustmentOrange | +42 |
SaturationAdjustmentPurple | +56 |
SaturationAdjustmentRed | -100 |
SaturationAdjustmentYellow | -16 |
ScaleFactor35efl | 1.6 |
SceneCaptureType | Standard |
SerialNumber | 1133523387 |
Shadows2012 | +100 |
ShadowTint | 0 |
SharpenDetail | 25 |
SharpenEdgeMasking | 49 |
SharpenRadius | +1.0 |
Sharpness | 84 |
ShutterSpeed | 1/10 |
ShutterSpeedValue | 1/10 |
Software | Adobe Photoshop Lightroom 6.1.1 (Windows) |
SplitToningBalance | 0 |
SplitToningHighlightHue | 0 |
SplitToningHighlightSaturation | 0 |
SplitToningShadowHue | 0 |
SplitToningShadowSaturation | 0 |
Tint | +13 |
ToneCurve | 0, 0, 255, 255 |
ToneCurveBlue | 0, 0, 255, 255 |
ToneCurveGreen | 0, 0, 255, 255 |
ToneCurveName | Linear |
ToneCurveName2012 | Linear |
ToneCurvePV2012 | 0, 0, 255, 255 |
ToneCurvePV2012Blue | 0, 0, 255, 255 |
ToneCurvePV2012Green | 0, 0, 255, 255 |
ToneCurvePV2012Red | 0, 0, 255, 255 |
ToneCurveRed | 0, 0, 255, 255 |
ToneMapStrength | 0 |
Version | 9.1.1 |
Vibrance | +24 |
VignetteAmount | 0 |
WhiteBalance | Auto |
Whites2012 | +33 |