Felt | Verdi |
AlreadyApplied | True |
Artist | Geir Eftevand |
AutoLateralCA | 0 |
BitsPerSample | 8 |
Blacks2012 | +30 |
BlueHue | 0 |
BlueSaturation | 0 |
Brightness | 0 |
By-line | Geir Eftevand |
CameraProfile | Embedded |
Clarity | 0 |
Clarity2012 | +50 |
ColorComponents | 3 |
ColorMode | RGB |
ColorNoiseReduction | 0 |
ColorSpace (1) | Unknown (-1) |
ColorSpace | Uncalibrated |
ColorTransform | YCbCr |
Contrast | 0 |
Contrast2012 | 0 |
ConvertToGrayscale | False |
Copyright | © Geir Eftevand |
CopyrightFlag | True |
CopyrightNotice | © Geir Eftevand |
CreateDate (1) | 2014:06:13 17:34:08+02:00 |
CreateDate | 2012:01:17 15:34:38 |
Creator | Geir Eftevand |
CreatorAddress | Kroodden 17 |
CreatorCity | Kristiansand |
CreatorCountry | NORWAY |
CreatorPostalCode | 4624 |
CreatorTool | Adobe Photoshop Elements 7.0 Windows |
CreatorWorkEmail | post@geireftevand.no |
CreatorWorkTelephone | +4797586360 |
DateTimeDigitized | 2012:01:17 15:34:38+01:00 |
Defringe | 0 |
ExifImageHeight | 530 |
ExifImageWidth | 835 |
Exposure | 0.00 |
Exposure2012 | 0.00 |
FillLight | 0 |
Format | image/jpeg |
GrainAmount | 0 |
GreenHue | 0 |
GreenSaturation | 0 |
HasCrop | False |
HasExtendedXMP | 68140EE0201DBDB4E1068387E8FA656B |
HasSettings | True |
HighlightRecovery | 0 |
Highlights2012 | -51 |
HueAdjustmentAqua | 0 |
HueAdjustmentBlue | 0 |
HueAdjustmentGreen | 0 |
HueAdjustmentMagenta | 0 |
HueAdjustmentOrange | 0 |
HueAdjustmentPurple | 0 |
HueAdjustmentRed | 0 |
HueAdjustmentYellow | 0 |
ICCProfileName | Adobe RGB (1998) |
ImageHeight | 530 |
ImageSize | 835x530 |
ImageWidth | 835 |
IncrementalTemperature | 0 |
IncrementalTint | 0 |
LensManualDistortionAmount | 0 |
LensProfileEnable | 0 |
LensProfileSetup | LensDefaults |
LuminanceAdjustmentAqua | 0 |
LuminanceAdjustmentBlue | +30 |
LuminanceAdjustmentGreen | 0 |
LuminanceAdjustmentMagenta | 0 |
LuminanceAdjustmentOrange | 0 |
LuminanceAdjustmentPurple | 0 |
LuminanceAdjustmentRed | 0 |
LuminanceAdjustmentYellow | 0 |
LuminanceSmoothing | 0 |
Make | Nikon |
Marked | True |
Megapixels | 0.443 |
Model | Nikon COOLSCAN V ED |
ModifyDate (1) | 2014:06:13 17:37:22+02:00 |
ModifyDate | 2014:06:13 17:37:22 |
Orientation | Horizontal (normal) |
PaintCorrectionActive | true |
PaintCorrectionAmount | 1.000000 |
PaintCorrectionBrightness | 0.000000 |
PaintCorrectionClarity2012 (2) | -0.048780 |
PaintCorrectionClarity2012 | 0.000000 |
PaintCorrectionContrast2012 | 0.000000 |
PaintCorrectionExposure2012 | 0.000000 |
PaintCorrectionHighlights2012 | 0.000000 |
PaintCorrectionHue | 0.000000 |
PaintCorrectionLuminanceNoise (1) | 0.000000 |
PaintCorrectionLuminanceNoise | 1.000000 |
PaintCorrectionMaskCenterWeight (35) | 0.000000 |
PaintCorrectionMaskCenterWeight | 0.162140 |
PaintCorrectionMaskFlow (12) | 0.175000 |
PaintCorrectionMaskFlow (13) | 1.000000 |
PaintCorrectionMaskFlow (25) | 0.234000 |
PaintCorrectionMaskFlow (33) | 0.576000 |
PaintCorrectionMaskFlow | 0.529000 |
PaintCorrectionMaskRadius (10) | 0.111330 |
PaintCorrectionMaskRadius (16) | 0.124719 |
PaintCorrectionMaskRadius (20) | 0.030143 |
PaintCorrectionMaskRadius (21) | 0.142320 |
PaintCorrectionMaskRadius (22) | 0.087547 |
PaintCorrectionMaskRadius (25) | 0.083013 |
PaintCorrectionMaskRadius (32) | 0.034121 |
PaintCorrectionMaskRadius (40) | 0.044592 |
PaintCorrectionMaskRadius (44) | 0.012685 |
PaintCorrectionMaskRadius (45) | 0.007861 |
PaintCorrectionMaskRadius (51) | 0.005473 |
PaintCorrectionMaskRadius (6) | 0.070615 |
PaintCorrectionMaskRadius (64) | 0.007801 |
PaintCorrectionMaskRadius (67) | 0.015164 |
PaintCorrectionMaskRadius (76) | 0.006202 |
PaintCorrectionMaskRadius (80) | 0.003191 |
PaintCorrectionMaskRadius | 0.034042 |
PaintCorrectionMaskValue (37) | 0.000000 |
PaintCorrectionMaskValue (41) | 0.286000 |
PaintCorrectionMaskValue | 0.500000 |
PaintCorrectionMaskWhat | Mask/Paint |
PaintCorrectionMoire | 0.000000 |
PaintCorrectionSaturation (1) | 1.000000 |
PaintCorrectionSaturation (3) | -0.302680 |
PaintCorrectionSaturation | 0.000000 |
PaintCorrectionShadows2012 (2) | -0.024390 |
PaintCorrectionShadows2012 (3) | -0.048780 |
PaintCorrectionShadows2012 (4) | -1.000000 |
PaintCorrectionShadows2012 | -0.692930 |
PaintCorrectionSharpness | 0.000000 |
PaintCorrectionTemperature (1) | -0.292680 |
PaintCorrectionTemperature (3) | 0.000000 |
PaintCorrectionTemperature | -0.024390 |
PaintCorrectionTint | 0.000000 |
PaintCorrectionWhat | Correction |
ParametricDarks | 0 |
ParametricHighlights | 0 |
ParametricHighlightSplit | 75 |
ParametricLights | 0 |
ParametricMidtoneSplit | 50 |
ParametricShadows | 0 |
ParametricShadowSplit | 25 |
PerspectiveHorizontal | 0 |
PerspectiveRotate | 0.0 |
PerspectiveScale | 100 |
PerspectiveVertical | 0 |
PostCropVignetteAmount | 0 |
ProcessVersion | 6.7 |
ProfileDescription | Adobe RGB (1998) |
RedHue | 0 |
RedSaturation | 0 |
Rights | © Geir Eftevand |
Saturation | 0 |
SaturationAdjustmentAqua | 0 |
SaturationAdjustmentBlue | -70 |
SaturationAdjustmentGreen | 0 |
SaturationAdjustmentMagenta | 0 |
SaturationAdjustmentOrange | 0 |
SaturationAdjustmentPurple | 0 |
SaturationAdjustmentRed | 0 |
SaturationAdjustmentYellow | 0 |
Shadows | 0 |
Shadows2012 | +30 |
ShadowTint | 0 |
SharpenDetail | 70 |
SharpenEdgeMasking | 100 |
SharpenRadius | +1.5 |
Sharpness | 100 |
Software | Adobe Photoshop Elements 7.0 Windows |
SplitToningBalance | 0 |
SplitToningHighlightHue | 0 |
SplitToningHighlightSaturation | 0 |
SplitToningShadowHue | 0 |
SplitToningShadowSaturation | 0 |
ToneCurve | 0, 0, 255, 255 |
ToneCurveBlue | 0, 0, 255, 255 |
ToneCurveGreen | 0, 0, 255, 255 |
ToneCurveName | Linear |
ToneCurveName2012 | Linear |
ToneCurvePV2012 | 0, 0, 255, 255 |
ToneCurvePV2012Blue | 0, 0, 255, 255 |
ToneCurvePV2012Green | 0, 0, 255, 255 |
ToneCurvePV2012Red | 0, 0, 255, 255 |
ToneCurveRed | 0, 0, 255, 255 |
URL_List | |
Version | 7.0 |
Vibrance | 0 |
VignetteAmount | 0 |
WhiteBalance | Custom |
Whites2012 | 0 |