Felt | Verdi |
AlreadyApplied | True |
Aperture | 11.0 |
ApertureValue | 11.0 |
ApproximateFocusDistance | 36.8 |
BitsPerSample (1) | 16 16 16 |
BitsPerSample | 8 |
BlueHue | 0 |
BlueSaturation | 0 |
Brightness | -45 |
CameraProfile | Adobe Standard |
ChromaticAberrationB | 0 |
ChromaticAberrationR | 0 |
CircleOfConfusion | 0.031 mm |
Clarity | -45 |
ColorComponents | 3 |
ColorMode | RGB |
ColorNoiseReduction | 25 |
ColorNoiseReductionDetail | 50 |
ColorSpace | sRGB |
ColorTemperature | 6072 |
Contrast | +100 |
ConvertToGrayscale | True |
CreateDate (1) | 2011:11:04 15:40:52.94-07:00 |
CreateDate | 2011:11:04 15:40:52 |
CreatorTool | Adobe Photoshop CS5 Macintosh |
CropAngle | 0 |
CropBottom | 0.843212 |
CropConstrainToWarp | 0 |
CropHeight | 3157 |
CropLeft | 0.045889 |
CropRight | 0.797323 |
CropTop | 0 |
CropUnit | pixels |
CropWidth | 4220 |
CustomRendered | Normal |
DateCreated (1) | 2011:11:04 |
DateCreated | 2011:11:04 15:40:52.094 |
DateTimeOriginal | 2011:11:04 15:40:52 |
Defringe | 0 |
DOF | inf (11.46 m - inf) |
ExifImageHeight | 671 |
ExifImageWidth | 1197 |
Exposure | +1.15 |
ExposureCompensation | 0 |
ExposureMode | Auto |
ExposureProgram | Aperture-priority AE |
ExposureTime | 1/13 |
FillLight | 37 |
Firmware | 2.0.8 |
Flash | Off, Did not fire |
FlashCompensation | 0 |
FNumber | 11.0 |
FocalLength | 75.0 mm |
FocalLength35efl | 75.0 mm (35 mm equivalent: 73.2 mm) |
Format | image/jpeg |
FOV | 27.6 deg |
GrainAmount | 0 |
GrayMixerAqua | -17 |
GrayMixerBlue | +14 |
GrayMixerGreen | -28 |
GrayMixerMagenta | +4 |
GrayMixerOrange | -21 |
GrayMixerPurple | +18 |
GrayMixerRed | -11 |
GrayMixerYellow | -25 |
GreenHue | 0 |
GreenSaturation | 0 |
HasCrop | True |
HasSettings | True |
HighlightRecovery | 26 |
HyperfocalDistance | 16.61 m |
ICCProfileName | sRGB IEC61966-2.1 |
ImageHeight (1) | 2364 |
ImageHeight | 671 |
ImageNumber | 0 |
ImageSize | 1197x671 |
ImageWidth (1) | 4220 |
ImageWidth | 1197 |
ISO | 1600 |
Lens | EF70-200mm f/2.8L IS USM |
LensID (1) | 224 |
LensID | Canon EF 70-200mm f/2.8L IS USM |
LensInfo | 70-200mm f/? |
LensManualDistortionAmount | 0 |
LensModel | EF70-200mm f/2.8L IS USM |
LensProfileEnable | 0 |
LensProfileSetup | LensDefaults |
LightValue | 6.6 |
LuminanceNoiseReductionContrast | 0 |
LuminanceNoiseReductionDetail | 50 |
LuminanceSmoothing | 28 |
Make | Canon |
MaxApertureValue | 2.8 |
Megapixels | 0.803 |
MeteringMode | Multi-segment |
Model | Canon EOS 5D Mark II |
ModifyDate (1) | 2012:01:06 13:42:06-08:00 |
ModifyDate | 2012:01:06 13:42:06 |
Orientation | Horizontal (normal) |
PaintCorrectionActive | true |
PaintCorrectionAmount | 1.000000 |
PaintCorrectionBrightness (1) | 0.047120 |
PaintCorrectionBrightness (2) | 0.130890 |
PaintCorrectionBrightness | 0.392670 |
PaintCorrectionClarity | 0.183246 |
PaintCorrectionContrast | 0.130890 |
PaintCorrectionExposure (2) | 0.047120 |
PaintCorrectionExposure (3) | 0.130890 |
PaintCorrectionExposure | 0.162304 |
PaintCorrectionHue | 164.000000 |
PaintCorrectionMaskCenterWeight | 0.185759 |
PaintCorrectionMaskFlow | 0.774301 |
PaintCorrectionMaskRadius (1) | 0.027415 |
PaintCorrectionMaskRadius (23) | 0.023884 |
PaintCorrectionMaskRadius | 0.017007 |
PaintCorrectionMaskValue | 0.062176 |
PaintCorrectionMaskWhat | Mask/Paint |
PaintCorrectionSaturation (5) | 0.036649 |
PaintCorrectionSaturation | 0.010000 |
PaintCorrectionSharpness | 0.204188 |
PaintCorrectionWhat | Correction |
ParametricDarks | 0 |
ParametricHighlights | 0 |
ParametricHighlightSplit | 75 |
ParametricLights | 0 |
ParametricMidtoneSplit | 50 |
ParametricShadows | 0 |
ParametricShadowSplit | 25 |
PerspectiveHorizontal | 0 |
PerspectiveRotate | 0.0 |
PerspectiveScale | 100 |
PerspectiveVertical | 0 |
PhotometricInterpretation | RGB |
PlanarConfiguration | Chunky |
PostCropVignetteAmount | 0 |
ProcessVersion | 5.7 |
ProfileDescription | sRGB IEC61966-2.1 |
RedHue | 0 |
RedSaturation | 0 |
ScaleFactor35efl | 1.0 |
SceneCaptureType | Standard |
SensitivityType | Unknown |
SerialNumber | 2531504887 |
Shadows | 40 |
ShadowTint | 0 |
SharpenDetail | 16 |
SharpenEdgeMasking | 14 |
SharpenRadius | +1.0 |
Sharpness | 9 |
ShutterSpeed | 1/13 |
ShutterSpeedValue | 1/13 |
Software | Adobe Photoshop CS5 Macintosh |
SplitToningBalance | 0 |
SplitToningHighlightHue | 54 |
SplitToningHighlightSaturation | 15 |
SplitToningShadowHue | 221 |
SplitToningShadowSaturation | 2 |
SubjectDistance | 36.8 m |
Tint | 0 |
ToneCurve | 0, 0, 32, 22, 64, 56, 128, 128, 192, 196, 255, 255 |
ToneCurveName | Medium Contrast |
URL_List | |
Version | 6.2 |
VignetteAmount | 0 |
WhiteBalance (1) | Custom |
WhiteBalance | Auto |